Workbook
Name ArmyLists: 'Armies v4'!$B$2:$B$91
Name Camp: Troops!$N$3:$N$5
Name GeneralLevel_Large: Troops!$AA$3:$AA$7
Name Generals: Troops!$H$3:$H$7
Name GeneralType: Troops!$K$3:$K$8
Name GeneralType_Large: Troops!$AD$3:$AE$8
Name Options: Troops!$X$3:$X$7
Name Quality: Troops!$V$3:$V$5
Name Terrain: Troops!$Q$2:$Q$7
Name Troops: Troops!$A$3:$A$158

Sheet Standard format (220 pts) (2)
C2: List | D2: Name | G2: Date/Option | K2: Initiative | M2: Scouting Bonus | O2: Break Points
B3: 220 pts | C3: 34 | D3: =VLOOKUP(C3,'Armies v4'!A1:B92,2,FALSE) -> Later English Civil War Royalist | G3: 1643 | K3: =ROUNDDOWN(SUM(IF(H10="Competent",1,IF(H10="Brilliant",2,IF(H10="Strategist",2,0))),IF(H23="Competent",1,IF(H23="Brilliant",2,IF(H23="Strategist",2,0))),IF(H32="Competent",1,IF(H32="Brilliant",2,IF(H32="Strategist",2,0))))/2+IF(H10="Strategist",1,IF(H23="Strategist",1,IF(H32="Strategist",1,0))),0)+M3 -> 1 | M3: =IF(M39>=6,2,IF(M39>=2,1,0)) -> 0
B5: V4 | C5: Regions | F5: Type of Camp | H5: Defences | J5: Qty | K5: Budget | M5: =IF(F6="fortified",1) -> FALSE
C6: Plain | E6: --------------- | F6: Standard | H6: Fortifications | J6: 0 | K6: =J6*1 -> 0
C7: Mountain | E7: --------------- | F7: =IFERROR(VLOOKUP(F6,Troops!N4:O5,2,FALSE),"0") -> 0 | H7: Obstacles | J7: 0 | K7: =J7*0.5 -> 0
A9: Corps I | E9: Commander Name | H9: Value | I9: Type | K9: Budget | M9: Scouting Troops | O9: Break Points | P9: Unit Qty | R9: Cmd Shot | T9: Regimental Artillery | V9: Budget | X9: Cmd Budget | Z9: Reg Budget | AB9: Stakes
B10: Prince Rupert | H10: Competent | I10: --------------- | K10: =VLOOKUP(H10,Troops!$H$3:$I$7,2,FALSE)+VLOOKUP(I10,Troops!$K$3:$L$8,2,FALSE) -> 3
A11: Quantity | B11: Troop description | E11: Troop Type | G11: Options | H11: Quality | I11: Budget | K11: Total
A12: 0 | B12: Horse | E12: Heavy cavalry shock headstrong | G12: --------------- | H12: Elite | I12: =IFERROR(R12+T12+V12+X12+Z12+AB12,"-") -> 13 | K12: =IFERROR(SUM(A12*I12),"N/A") -> 0 | M12: =VLOOKUP(E12,Troops!$A$3:$G$158,5,FALSE)*A12 -> 0 | O12: =VLOOKUP(E12,Troops!$A$3:$F$158,6,FALSE) -> 1 | P12: =O12*A12 -> 0 | R12: {=IF(AND(H12="Elite",G12="Cmd Shot"),N/A)} -> FALSE | T12: {=IF(AND(H12="mediocre",G12="Regimental Artillery"),N/A)} -> FALSE | V12: =IFERROR(IF(H12="Elite",VLOOKUP(E12,Troops!$A$3:$D$158,4,FALSE),IF(H12="Mediocre",VLOOKUP(E12,Troops!$A$3:$D$158,2,FALSE),VLOOKUP(E12,Troops!$A$3:$D$158,3,FALSE)))+R12+T12,"-") -> 13 | X12: =IF(G12="Regimental Artillery",VLOOKUP(G12,Troops!$X$4:$Y$5,2,FALSE)) -> FALSE | Z12: =IF(G12="Cmd Shot",VLOOKUP(G12,Troops!$X$4:$Y$5,2,FALSE)) -> FALSE | AB12: =IF(G12="Stakes",VLOOKUP(G12,Troops!$X$4:$Y$6,2,FALSE)) -> FALSE
A13: 2 | B13: Horse | E13: Heavy cavalry shock headstrong | G13: --------------- | H13: --------------- | I13: =IFERROR(R13+T13+V13+X13+Z13+AB13,"-") -> 11 | K13: =IFERROR(SUM(A13*I13),"N/A") -> 22 | M13: =VLOOKUP(E13,Troops!$A$3:$G$158,5,FALSE)*A13 -> 0 | O13: =VLOOKUP(E13,Troops!$A$3:$F$158,6,FALSE) -> 1 | P13: =O13*A13 -> 2 | R13: {=IF(AND(H13="Elite",G13="Cmd Shot"),N/A)} -> FALSE | T13: {=IF(AND(H13="mediocre",G13="Regimental Artillery"),N/A)} -> FALSE | V13: =IFERROR(IF(H13="Elite",VLOOKUP(E13,Troops!$A$3:$D$158,4,FALSE),IF(H13="Mediocre",VLOOKUP(E13,Troops!$A$3:$D$158,2,FALSE),VLOOKUP(E13,Troops!$A$3:$D$158,3,FALSE)))+R13+T13,"-") -> 11 | X13: =IF(G13="Regimental Artillery",VLOOKUP(G13,Troops!$X$4:$Y$5,2,FALSE)) -> FALSE | Z13: =IF(G13="Cmd Shot",VLOOKUP(G13,Troops!$X$4:$Y$5,2,FALSE)) -> FALSE | AB13: =IF(G13="Stakes",VLOOKUP(G13,Troops!$X$4:$Y$6,2,FALSE)) -> FALSE
A14: 1 | B14: Horse | E14: Medium cavalry shock headstrong | G14: --------------- | H14: --------------- | I14: =IFERROR(R14+T14+V14+X14+Z14+AB14,"-") -> 9 | K14: =IFERROR(SUM(A14*I14),"N/A") -> 9 | M14: =VLOOKUP(E14,Troops!$A$3:$G$158,5,FALSE)*A14 -> 0 | O14: =VLOOKUP(E14,Troops!$A$3:$F$158,6,FALSE) -> 1 | P14: =O14*A14 -> 1 | R14: {=IF(AND(H14="Elite",G14="Cmd Shot"),N/A)} -> FALSE | T14: {=IF(AND(H14="mediocre",G14="Regimental Artillery"),N/A)} -> FALSE | V14: =IFERROR(IF(H14="Elite",VLOOKUP(E14,Troops!$A$3:$D$158,4,FALSE),IF(H14="Mediocre",VLOOKUP(E14,Troops!$A$3:$D$158,2,FALSE),VLOOKUP(E14,Troops!$A$3:$D$158,3,FALSE)))+R14+T14,"-") -> 9 | X14: =IF(G14="Regimental Artillery",VLOOKUP(G14,Troops!$X$4:$Y$5,2,FALSE)) -> FALSE | Z14: =IF(G14="Cmd Shot",VLOOKUP(G14,Troops!$X$4:$Y$5,2,FALSE)) -> FALSE | AB14: =IF(G14="Stakes",VLOOKUP(G14,Troops!$X$4:$Y$6,2,FALSE)) -> FALSE
A15: 1 | B15: Dragoons | E15: Dragoon musket | G15: --------------- | H15: --------------- | I15: =IFERROR(R15+T15+V15+X15+Z15+AB15,"-") -> 6 | K15: =IFERROR(SUM(A15*I15),"N/A") -> 6 | M15: =VLOOKUP(E15,Troops!$A$3:$G$158,5,FALSE)*A15 -> 1 | O15: =VLOOKUP(E15,Troops!$A$3:$F$158,6,FALSE) -> 1 | P15: =O15*A15 -> 1 | R15: {=IF(AND(H15="Elite",G15="Cmd Shot"),N/A)} -> FALSE | T15: {=IF(AND(H15="mediocre",G15="Regimental Artillery"),N/A)} -> FALSE | V15: =IFERROR(IF(H15="Elite",VLOOKUP(E15,Troops!$A$3:$D$158,4,FALSE),IF(H15="Mediocre",VLOOKUP(E15,Troops!$A$3:$D$158,2,FALSE),VLOOKUP(E15,Troops!$A$3:$D$158,3,FALSE)))+R15+T15,"-") -> 6 | X15: =IF(G15="Regimental Artillery",VLOOKUP(G15,Troops!$X$4:$Y$5,2,FALSE)) -> FALSE | Z15: =IF(G15="Cmd Shot",VLOOKUP(G15,Troops!$X$4:$Y$5,2,FALSE)) -> FALSE | AB15: =IF(G15="Stakes",VLOOKUP(G15,Troops!$X$4:$Y$6,2,FALSE)) -> FALSE
A16: 2 | B16: Foot Regiments | E16: Pike & Shot musket | G16: --------------- | H16: --------------- | I16: =IFERROR(R16+T16+V16+X16+Z16+AB16,"-") -> 16 | K16: =IFERROR(SUM(A16*I16),"N/A") -> 32 | M16: =VLOOKUP(E16,Troops!$A$3:$G$158,5,FALSE)*A16 -> 0 | O16: =VLOOKUP(E16,Troops!$A$3:$F$158,6,FALSE) -> 2 | P16: =O16*A16 -> 4 | R16: {=IF(AND(H16="Elite",G16="Cmd Shot"),N/A)} -> FALSE | T16: {=IF(AND(H16="mediocre",G16="Regimental Artillery"),N/A)} -> FALSE | V16: =IFERROR(IF(H16="Elite",VLOOKUP(E16,Troops!$A$3:$D$158,4,FALSE),IF(H16="Mediocre",VLOOKUP(E16,Troops!$A$3:$D$158,2,FALSE),VLOOKUP(E16,Troops!$A$3:$D$158,3,FALSE)))+R16+T16,"-") -> 16 | X16: =IF(G16="Regimental Artillery",VLOOKUP(G16,Troops!$X$4:$Y$5,2,FALSE)) -> FALSE | Z16: =IF(G16="Cmd Shot",VLOOKUP(G16,Troops!$X$4:$Y$5,2,FALSE)) -> FALSE | AB16: =IF(G16="Stakes",VLOOKUP(G16,Troops!$X$4:$Y$6,2,FALSE)) -> FALSE
A17: 1 | B17: Artillery | E17: Medium artillery | G17: --------------- | H17: --------------- | I17: =IFERROR(R17+T17+V17+X17+Z17+AB17,"-") -> 10 | K17: =IFERROR(SUM(A17*I17),"N/A") -> 10 | M17: =VLOOKUP(E17,Troops!$A$3:$G$158,5,FALSE)*A17 -> 0 | O17: =VLOOKUP(E17,Troops!$A$3:$F$158,6,FALSE) -> 1 | P17: =O17*A17 -> 1 | R17: {=IF(AND(H17="Elite",G17="Cmd Shot"),N/A)} -> FALSE | T17: {=IF(AND(H17="mediocre",G17="Regimental Artillery"),N/A)} -> FALSE | V17: =IFERROR(IF(H17="Elite",VLOOKUP(E17,Troops!$A$3:$D$158,4,FALSE),IF(H17="Mediocre",VLOOKUP(E17,Troops!$A$3:$D$158,2,FALSE),VLOOKUP(E17,Troops!$A$3:$D$158,3,FALSE)))+R17+T17,"-") -> 10 | X17: =IF(G17="Regimental Artillery",VLOOKUP(G17,Troops!$X$4:$Y$5,2,FALSE)) -> FALSE | Z17: =IF(G17="Cmd Shot",VLOOKUP(G17,Troops!$X$4:$Y$5,2,FALSE)) -> FALSE | AB17: =IF(G17="Stakes",VLOOKUP(G17,Troops!$X$4:$Y$6,2,FALSE)) -> FALSE
E18: --------------- | G18: --------------- | H18: --------------- | I18: =IFERROR(R18+T18+V18+X18+Z18+AB18,"-") -> 0 | K18: =IFERROR(SUM(A18*I18),"N/A") -> 0 | M18: =VLOOKUP(E18,Troops!$A$3:$G$158,5,FALSE)*A18 -> 0 | O18: =VLOOKUP(E18,Troops!$A$3:$F$158,6,FALSE) -> 0 | P18: =O18*A18 -> 0 | R18: {=IF(AND(H18="Elite",G18="Cmd Shot"),N/A)} -> FALSE | T18: {=IF(AND(H18="mediocre",G18="Regimental Artillery"),N/A)} -> FALSE | V18: =IFERROR(IF(H18="Elite",VLOOKUP(E18,Troops!$A$3:$D$158,4,FALSE),IF(H18="Mediocre",VLOOKUP(E18,Troops!$A$3:$D$158,2,FALSE),VLOOKUP(E18,Troops!$A$3:$D$158,3,FALSE)))+R18+T18,"-") -> 0 | X18: =IF(G18="Regimental Artillery",VLOOKUP(G18,Troops!$X$4:$Y$5,2,FALSE)) -> FALSE | Z18: =IF(G18="Cmd Shot",VLOOKUP(G18,Troops!$X$4:$Y$5,2,FALSE)) -> FALSE | AB18: =IF(G18="Stakes",VLOOKUP(G18,Troops!$X$4:$Y$6,2,FALSE)) -> FALSE
E19: --------------- | G19: --------------- | H19: --------------- | I19: =IFERROR(R19+T19+V19+X19+Z19+AB19,"-") -> 0 | K19: =IFERROR(SUM(A19*I19),"N/A") -> 0 | M19: =VLOOKUP(E19,Troops!$A$3:$G$158,5,FALSE)*A19 -> 0 | O19: =VLOOKUP(E19,Troops!$A$3:$F$158,6,FALSE) -> 0 | P19: =O19*A19 -> 0 | R19: {=IF(AND(H19="Elite",G19="Cmd Shot"),N/A)} -> FALSE | T19: {=IF(AND(H19="mediocre",G19="Regimental Artillery"),N/A)} -> FALSE | V19: =IFERROR(IF(H19="Elite",VLOOKUP(E19,Troops!$A$3:$D$158,4,FALSE),IF(H19="Mediocre",VLOOKUP(E19,Troops!$A$3:$D$158,2,FALSE),VLOOKUP(E19,Troops!$A$3:$D$158,3,FALSE)))+R19+T19,"-") -> 0 | X19: =IF(G19="Regimental Artillery",VLOOKUP(G19,Troops!$X$4:$Y$5,2,FALSE)) -> FALSE | Z19: =IF(G19="Cmd Shot",VLOOKUP(G19,Troops!$X$4:$Y$5,2,FALSE)) -> FALSE | AB19: =IF(G19="Stakes",VLOOKUP(G19,Troops!$X$4:$Y$6,2,FALSE)) -> FALSE
A20: =SUM(P$12:P$19) -> 9 | K20: =SUM(K12:K19)+K10 -> 82
A22: Corps II | E22: Commander Name | H22: Value | I22: Type | K22: Budget | O22: Break Points | P22: Unit Qty | R22: Cmd Shot | T22: Regimental Artillery | V22: Budget | X22: Cmd Budget | Z22: Reg Budget | AB22: Stakes
H23: Competent | I23: --------------- | K23: =VLOOKUP(H23,Troops!$H$3:$I$7,2,FALSE)+VLOOKUP(I23,Troops!$K$3:$L$8,2,FALSE) -> 3
A24: Quantity | B24: Troop description | E24: Troop Type | G24: Options | H24: Quality | I24: Budget | K24: Total
A25: 3 | B25: Veteran Foot | E25: Pike & Shot musket | G25: --------------- | H25: Elite | I25: =IFERROR(R25+T25+V25+X25+Z25+AB25,"-") -> 19 | K25: =IFERROR(SUM(A25*I25),"N/A") -> 57 | M25: =VLOOKUP(E25,Troops!$A$3:$G$158,5,FALSE)*A25 -> 0 | O25: =VLOOKUP(E25,Troops!$A$3:$F$158,6,FALSE) -> 2 | P25: =O25*A25 -> 6 | R25: {=IF(AND(H25="Elite",G25="Cmd Shot"),N/A)} -> FALSE | T25: {=IF(AND(H25="mediocre",G25="Regimental Artillery"),N/A)} -> FALSE | V25: =IFERROR(IF(H25="Elite",VLOOKUP(E25,Troops!$A$3:$D$158,4,FALSE),IF(H25="Mediocre",VLOOKUP(E25,Troops!$A$3:$D$158,2,FALSE),VLOOKUP(E25,Troops!$A$3:$D$158,3,FALSE)))+R25+T25,"-") -> 19 | X25: =IF(G25="Regimental Artillery",VLOOKUP(G25,Troops!$X$4:$Y$5,2,FALSE)) -> FALSE | Z25: =IF(G25="Cmd Shot",VLOOKUP(G25,Troops!$X$4:$Y$5,2,FALSE)) -> FALSE | AB25: =IF(G25="Stakes",VLOOKUP(G25,Troops!$X$4:$Y$6,2,FALSE)) -> FALSE
A26: 1 | B26: Horse | E26: Medium cavalry shock headstrong | G26: --------------- | H26: --------------- | I26: =IFERROR(R26+T26+V26+X26+Z26+AB26,"-") -> 9 | K26: =IFERROR(SUM(A26*I26),"N/A") -> 9 | M26: =VLOOKUP(E26,Troops!$A$3:$G$158,5,FALSE)*A26 -> 0 | O26: =VLOOKUP(E26,Troops!$A$3:$F$158,6,FALSE) -> 1 | P26: =O26*A26 -> 1 | R26: {=IF(AND(H26="Elite",G26="Cmd Shot"),N/A)} -> FALSE | T26: {=IF(AND(H26="mediocre",G26="Regimental Artillery"),N/A)} -> FALSE | V26: =IFERROR(IF(H26="Elite",VLOOKUP(E26,Troops!$A$3:$D$158,4,FALSE),IF(H26="Mediocre",VLOOKUP(E26,Troops!$A$3:$D$158,2,FALSE),VLOOKUP(E26,Troops!$A$3:$D$158,3,FALSE)))+R26+T26,"-") -> 9 | X26: =IF(G26="Regimental Artillery",VLOOKUP(G26,Troops!$X$4:$Y$5,2,FALSE)) -> FALSE | Z26: =IF(G26="Cmd Shot",VLOOKUP(G26,Troops!$X$4:$Y$5,2,FALSE)) -> FALSE | AB26: =IF(G26="Stakes",VLOOKUP(G26,Troops!$X$4:$Y$6,2,FALSE)) -> FALSE
E27: --------------- | G27: --------------- | H27: --------------- | I27: =IFERROR(R27+T27+V27+X27+Z27+AB27,"-") -> 0 | K27: =IFERROR(SUM(A27*I27),"N/A") -> 0 | M27: =VLOOKUP(E27,Troops!$A$3:$G$158,5,FALSE)*A27 -> 0 | O27: =VLOOKUP(E27,Troops!$A$3:$F$158,6,FALSE) -> 0 | P27: =O27*A27 -> 0 | R27: {=IF(AND(H27="Elite",G27="Cmd Shot"),N/A)} -> FALSE | T27: {=IF(AND(H27="mediocre",G27="Regimental Artillery"),N/A)} -> FALSE | V27: =IFERROR(IF(H27="Elite",VLOOKUP(E27,Troops!$A$3:$D$158,4,FALSE),IF(H27="Mediocre",VLOOKUP(E27,Troops!$A$3:$D$158,2,FALSE),VLOOKUP(E27,Troops!$A$3:$D$158,3,FALSE)))+R27+T27,"-") -> 0 | X27: =IF(G27="Regimental Artillery",VLOOKUP(G27,Troops!$X$4:$Y$5,2,FALSE)) -> FALSE | Z27: =IF(G27="Cmd Shot",VLOOKUP(G27,Troops!$X$4:$Y$5,2,FALSE)) -> FALSE | AB27: =IF(G27="Stakes",VLOOKUP(G27,Troops!$X$4:$Y$6,2,FALSE)) -> FALSE
E28: --------------- | G28: --------------- | H28: --------------- | I28: =IFERROR(R28+T28+V28+X28+Z28+AB28,"-") -> 0 | K28: =IFERROR(SUM(A28*I28),"N/A") -> 0 | M28: =VLOOKUP(E28,Troops!$A$3:$G$158,5,FALSE)*A28 -> 0 | O28: =VLOOKUP(E28,Troops!$A$3:$F$158,6,FALSE) -> 0 | P28: =O28*A28 -> 0 | R28: {=IF(AND(H28="Elite",G28="Cmd Shot"),N/A)} -> FALSE | T28: {=IF(AND(H28="mediocre",G28="Regimental Artillery"),N/A)} -> FALSE | V28: =IFERROR(IF(H28="Elite",VLOOKUP(E28,Troops!$A$3:$D$158,4,FALSE),IF(H28="Mediocre",VLOOKUP(E28,Troops!$A$3:$D$158,2,FALSE),VLOOKUP(E28,Troops!$A$3:$D$158,3,FALSE)))+R28+T28,"-") -> 0 | X28: =IF(G28="Regimental Artillery",VLOOKUP(G28,Troops!$X$4:$Y$5,2,FALSE)) -> FALSE | Z28: =IF(G28="Cmd Shot",VLOOKUP(G28,Troops!$X$4:$Y$5,2,FALSE)) -> FALSE | AB28: =IF(G28="Stakes",VLOOKUP(G28,Troops!$X$4:$Y$6,2,FALSE)) -> FALSE
A29: =SUM(P$25:P$28) -> 7 | K29: =SUM(K25:K28)+K23 -> 69
A31: Corps III | E31: Commander Name | H31: Value | I31: Type | K31: Budget | O31: Break Points | P31: Unit Qty | R31: Cmd Shot | T31: Regimental Artillery | V31: Budget | X31: Cmd Budget | Z31: Reg Budget | AB31: Stakes
H32: Competent | I32: --------------- | K32: =VLOOKUP(H32,Troops!$H$3:$I$7,2,FALSE)+VLOOKUP(I32,Troops!$K$3:$L$8,2,FALSE) -> 3
A33: Quantity | B33: Troop description | E33: Troop Type | G33: Options | H33: Quality | I33: Budget | K33: Total
A34: 3 | B34: Horse* | E34: Heavy cavalry shock headstrong | G34: --------------- | H34: Elite | I34: =IFERROR(R34+T34+V34+X34+Z34+AB34,"-") -> 13 | K34: =IFERROR(SUM(A34*I34),"N/A") -> 39 | M34: =VLOOKUP(E34,Troops!$A$3:$G$158,5,FALSE)*A34 -> 0 | O34: =VLOOKUP(E34,Troops!$A$3:$F$158,6,FALSE) -> 1 | P34: =O34*A34 -> 3 | R34: {=IF(AND(H34="Elite",G34="Cmd Shot"),N/A)} -> FALSE | T34: {=IF(AND(H34="mediocre",G34="Regimental Artillery"),N/A)} -> FALSE | V34: =IFERROR(IF(H34="Elite",VLOOKUP(E34,Troops!$A$3:$D$158,4,FALSE),IF(H34="Mediocre",VLOOKUP(E34,Troops!$A$3:$D$158,2,FALSE),VLOOKUP(E34,Troops!$A$3:$D$158,3,FALSE)))+R34+T34,"-") -> 13 | X34: =IF(G34="Regimental Artillery",VLOOKUP(G34,Troops!$X$4:$Y$5,2,FALSE)) -> FALSE | Z34: =IF(G34="Cmd Shot",VLOOKUP(G34,Troops!$X$4:$Y$5,2,FALSE)) -> FALSE | AB34: =IF(G34="Stakes",VLOOKUP(G34,Troops!$X$4:$Y$6,2,FALSE)) -> FALSE
A35: 1 | B35: Foot Regiments | E35: Pike & Shot musket | G35: --------------- | H35: --------------- | I35: =IFERROR(R35+T35+V35+X35+Z35+AB35,"-") -> 16 | K35: =IFERROR(SUM(A35*I35),"N/A") -> 16 | M35: =VLOOKUP(E35,Troops!$A$3:$G$158,5,FALSE)*A35 -> 0 | O35: =VLOOKUP(E35,Troops!$A$3:$F$158,6,FALSE) -> 2 | P35: =O35*A35 -> 2 | R35: {=IF(AND(H35="Elite",G35="Cmd Shot"),N/A)} -> FALSE | T35: {=IF(AND(H35="mediocre",G35="Regimental Artillery"),N/A)} -> FALSE | V35: =IFERROR(IF(H35="Elite",VLOOKUP(E35,Troops!$A$3:$D$158,4,FALSE),IF(H35="Mediocre",VLOOKUP(E35,Troops!$A$3:$D$158,2,FALSE),VLOOKUP(E35,Troops!$A$3:$D$158,3,FALSE)))+R35+T35,"-") -> 16 | X35: =IF(G35="Regimental Artillery",VLOOKUP(G35,Troops!$X$4:$Y$5,2,FALSE)) -> FALSE | Z35: =IF(G35="Cmd Shot",VLOOKUP(G35,Troops!$X$4:$Y$5,2,FALSE)) -> FALSE | AB35: =IF(G35="Stakes",VLOOKUP(G35,Troops!$X$4:$Y$6,2,FALSE)) -> FALSE
A36: 1 | B36: Commanded out musketeers | E36: Musketeer | G36: --------------- | H36: --------------- | I36: =IFERROR(R36+T36+V36+X36+Z36+AB36,"-") -> 11 | K36: =IFERROR(SUM(A36*I36),"N/A") -> 11 | M36: =VLOOKUP(E36,Troops!$A$3:$G$158,5,FALSE)*A36 -> 0 | O36: =VLOOKUP(E36,Troops!$A$3:$F$158,6,FALSE) -> 2 | P36: =O36*A36 -> 2 | R36: {=IF(AND(H36="Elite",G36="Cmd Shot"),N/A)} -> FALSE | T36: {=IF(AND(H36="mediocre",G36="Regimental Artillery"),N/A)} -> FALSE | V36: =IFERROR(IF(H36="Elite",VLOOKUP(E36,Troops!$A$3:$D$158,4,FALSE),IF(H36="Mediocre",VLOOKUP(E36,Troops!$A$3:$D$158,2,FALSE),VLOOKUP(E36,Troops!$A$3:$D$158,3,FALSE)))+R36+T36,"-") -> 11 | X36: =IF(G36="Regimental Artillery",VLOOKUP(G36,Troops!$X$4:$Y$5,2,FALSE)) -> FALSE | Z36: =IF(G36="Cmd Shot",VLOOKUP(G36,Troops!$X$4:$Y$5,2,FALSE)) -> FALSE | AB36: =IF(G36="Stakes",VLOOKUP(G36,Troops!$X$4:$Y$6,2,FALSE)) -> FALSE
E37: --------------- | G37: --------------- | H37: --------------- | I37: =IFERROR(R37+T37+V37+X37+Z37+AB37,"-") -> 0 | K37: =IFERROR(SUM(A37*I37),"N/A") -> 0 | M37: =VLOOKUP(E37,Troops!$A$3:$G$158,5,FALSE)*A37 -> 0 | O37: =VLOOKUP(E37,Troops!$A$3:$F$158,6,FALSE) -> 0 | P37: =O37*A37 -> 0 | R37: {=IF(AND(H37="Elite",G37="Cmd Shot"),N/A)} -> FALSE | T37: {=IF(AND(H37="mediocre",G37="Regimental Artillery"),N/A)} -> FALSE | V37: =IFERROR(IF(H37="Elite",VLOOKUP(E37,Troops!$A$3:$D$158,4,FALSE),IF(H37="Mediocre",VLOOKUP(E37,Troops!$A$3:$D$158,2,FALSE),VLOOKUP(E37,Troops!$A$3:$D$158,3,FALSE)))+R37+T37,"-") -> 0 | X37: =IF(G37="Regimental Artillery",VLOOKUP(G37,Troops!$X$4:$Y$5,2,FALSE)) -> FALSE | Z37: =IF(G37="Cmd Shot",VLOOKUP(G37,Troops!$X$4:$Y$5,2,FALSE)) -> FALSE | AB37: =IF(G37="Stakes",VLOOKUP(G37,Troops!$X$4:$Y$6,2,FALSE)) -> FALSE
A38: =SUM(P$34:P$37) -> 7 | K38: =SUM(K34:K37)+K32 -> 69
M39: =SUM(M12:M37) -> 1
A40: =SUM(A20+A29+A38+M5) -> 23 | B40: Units in the army | H40: Total budget : | K40: =SUM(F7+K6+K7+K20+K29+K38) -> 220

Sheet Standard format (220 pts)
C2: List | D2: Name | G2: Date/Option | K2: Initiative | M2: Scouting Bonus | O2: Break Points
B3: 220 pts | C3: 34 | D3: =VLOOKUP(C3,'Armies v4'!A1:B92,2,FALSE) -> Later English Civil War Royalist | G3: 1644 AD | K3: =ROUNDDOWN(SUM(IF(H10="Competent",1,IF(H10="Brilliant",2,IF(H10="Strategist",2,0))),IF(H23="Competent",1,IF(H23="Brilliant",2,IF(H23="Strategist",2,0))),IF(H32="Competent",1,IF(H32="Brilliant",2,IF(H32="Strategist",2,0))))/2+IF(H10="Strategist",1,IF(H23="Strategist",1,IF(H32="Strategist",1,0))),0)+M3 -> 1 | M3: =IF(M39>=6,2,IF(M39>=2,1,0)) -> 0
B5: V4 | C5: Regions | F5: Type of Camp | H5: Defences | J5: Qty | K5: Budget | M5: =IF(F6="fortified",1) -> FALSE
C6: Plain | E6: --------------- | F6: Standard | H6: Fortifications | J6: 0 | K6: =J6*1 -> 0
C7: Mountain | E7: --------------- | F7: =IFERROR(VLOOKUP(F6,Troops!N4:O5,2,FALSE),"0") -> 0 | H7: Obstacles | J7: 0 | K7: =J7*0.5 -> 0
A9: Corps I | E9: Commander Name | H9: Value | I9: Type | K9: Budget | M9: Scouting Troops | O9: Break Points | P9: Unit Qty | R9: Cmd Shot | T9: Regimental Artillery | V9: Budget | X9: Cmd Budget | Z9: Reg Budget | AB9: Stakes
B10: Prince Rupert | H10: Competent | I10: --------------- | K10: =VLOOKUP(H10,Troops!$H$3:$I$7,2,FALSE)+VLOOKUP(I10,Troops!$K$3:$L$8,2,FALSE) -> 3
A11: Quantity | B11: Troop description | E11: Troop Type | G11: Options | H11: Quality | I11: Budget | K11: Total
A12: 0 | B12: Horse | E12: Heavy cavalry shock headstrong | G12: --------------- | H12: Elite | I12: =IFERROR(R12+T12+V12+X12+Z12+AB12,"-") -> 13 | K12: =IFERROR(SUM(A12*I12),"N/A") -> 0 | M12: =VLOOKUP(E12,Troops!$A$3:$G$158,5,FALSE)*A12 -> 0 | O12: =VLOOKUP(E12,Troops!$A$3:$F$158,6,FALSE) -> 1 | P12: =O12*A12 -> 0 | R12: {=IF(AND(H12="Elite",G12="Cmd Shot"),N/A)} -> FALSE | T12: {=IF(AND(H12="mediocre",G12="Regimental Artillery"),N/A)} -> FALSE | V12: =IFERROR(IF(H12="Elite",VLOOKUP(E12,Troops!$A$3:$D$158,4,FALSE),IF(H12="Mediocre",VLOOKUP(E12,Troops!$A$3:$D$158,2,FALSE),VLOOKUP(E12,Troops!$A$3:$D$158,3,FALSE)))+R12+T12,"-") -> 13 | X12: =IF(G12="Regimental Artillery",VLOOKUP(G12,Troops!$X$4:$Y$5,2,FALSE)) -> FALSE | Z12: =IF(G12="Cmd Shot",VLOOKUP(G12,Troops!$X$4:$Y$5,2,FALSE)) -> FALSE | AB12: =IF(G12="Stakes",VLOOKUP(G12,Troops!$X$4:$Y$6,2,FALSE)) -> FALSE
A13: 3 | B13: Horse | E13: Heavy cavalry shock headstrong | G13: --------------- | H13: --------------- | I13: =IFERROR(R13+T13+V13+X13+Z13+AB13,"-") -> 11 | K13: =IFERROR(SUM(A13*I13),"N/A") -> 33 | M13: =VLOOKUP(E13,Troops!$A$3:$G$158,5,FALSE)*A13 -> 0 | O13: =VLOOKUP(E13,Troops!$A$3:$F$158,6,FALSE) -> 1 | P13: =O13*A13 -> 3 | R13: {=IF(AND(H13="Elite",G13="Cmd Shot"),N/A)} -> FALSE | T13: {=IF(AND(H13="mediocre",G13="Regimental Artillery"),N/A)} -> FALSE | V13: =IFERROR(IF(H13="Elite",VLOOKUP(E13,Troops!$A$3:$D$158,4,FALSE),IF(H13="Mediocre",VLOOKUP(E13,Troops!$A$3:$D$158,2,FALSE),VLOOKUP(E13,Troops!$A$3:$D$158,3,FALSE)))+R13+T13,"-") -> 11 | X13: =IF(G13="Regimental Artillery",VLOOKUP(G13,Troops!$X$4:$Y$5,2,FALSE)) -> FALSE | Z13: =IF(G13="Cmd Shot",VLOOKUP(G13,Troops!$X$4:$Y$5,2,FALSE)) -> FALSE | AB13: =IF(G13="Stakes",VLOOKUP(G13,Troops!$X$4:$Y$6,2,FALSE)) -> FALSE
A14: 0 | B14: Horse | E14: Medium cavalry shock headstrong | G14: --------------- | H14: --------------- | I14: =IFERROR(R14+T14+V14+X14+Z14+AB14,"-") -> 9 | K14: =IFERROR(SUM(A14*I14),"N/A") -> 0 | M14: =VLOOKUP(E14,Troops!$A$3:$G$158,5,FALSE)*A14 -> 0 | O14: =VLOOKUP(E14,Troops!$A$3:$F$158,6,FALSE) -> 1 | P14: =O14*A14 -> 0 | R14: {=IF(AND(H14="Elite",G14="Cmd Shot"),N/A)} -> FALSE | T14: {=IF(AND(H14="mediocre",G14="Regimental Artillery"),N/A)} -> FALSE | V14: =IFERROR(IF(H14="Elite",VLOOKUP(E14,Troops!$A$3:$D$158,4,FALSE),IF(H14="Mediocre",VLOOKUP(E14,Troops!$A$3:$D$158,2,FALSE),VLOOKUP(E14,Troops!$A$3:$D$158,3,FALSE)))+R14+T14,"-") -> 9 | X14: =IF(G14="Regimental Artillery",VLOOKUP(G14,Troops!$X$4:$Y$5,2,FALSE)) -> FALSE | Z14: =IF(G14="Cmd Shot",VLOOKUP(G14,Troops!$X$4:$Y$5,2,FALSE)) -> FALSE | AB14: =IF(G14="Stakes",VLOOKUP(G14,Troops!$X$4:$Y$6,2,FALSE)) -> FALSE
A15: 1 | B15: Dragoons | E15: Dragoon musket | G15: --------------- | H15: --------------- | I15: =IFERROR(R15+T15+V15+X15+Z15+AB15,"-") -> 6 | K15: =IFERROR(SUM(A15*I15),"N/A") -> 6 | M15: =VLOOKUP(E15,Troops!$A$3:$G$158,5,FALSE)*A15 -> 1 | O15: =VLOOKUP(E15,Troops!$A$3:$F$158,6,FALSE) -> 1 | P15: =O15*A15 -> 1 | R15: {=IF(AND(H15="Elite",G15="Cmd Shot"),N/A)} -> FALSE | T15: {=IF(AND(H15="mediocre",G15="Regimental Artillery"),N/A)} -> FALSE | V15: =IFERROR(IF(H15="Elite",VLOOKUP(E15,Troops!$A$3:$D$158,4,FALSE),IF(H15="Mediocre",VLOOKUP(E15,Troops!$A$3:$D$158,2,FALSE),VLOOKUP(E15,Troops!$A$3:$D$158,3,FALSE)))+R15+T15,"-") -> 6 | X15: =IF(G15="Regimental Artillery",VLOOKUP(G15,Troops!$X$4:$Y$5,2,FALSE)) -> FALSE | Z15: =IF(G15="Cmd Shot",VLOOKUP(G15,Troops!$X$4:$Y$5,2,FALSE)) -> FALSE | AB15: =IF(G15="Stakes",VLOOKUP(G15,Troops!$X$4:$Y$6,2,FALSE)) -> FALSE
A16: 2 | B16: Foot Regiments | E16: Pike & Shot musket | G16: --------------- | H16: --------------- | I16: =IFERROR(R16+T16+V16+X16+Z16+AB16,"-") -> 16 | K16: =IFERROR(SUM(A16*I16),"N/A") -> 32 | M16: =VLOOKUP(E16,Troops!$A$3:$G$158,5,FALSE)*A16 -> 0 | O16: =VLOOKUP(E16,Troops!$A$3:$F$158,6,FALSE) -> 2 | P16: =O16*A16 -> 4 | R16: {=IF(AND(H16="Elite",G16="Cmd Shot"),N/A)} -> FALSE | T16: {=IF(AND(H16="mediocre",G16="Regimental Artillery"),N/A)} -> FALSE | V16: =IFERROR(IF(H16="Elite",VLOOKUP(E16,Troops!$A$3:$D$158,4,FALSE),IF(H16="Mediocre",VLOOKUP(E16,Troops!$A$3:$D$158,2,FALSE),VLOOKUP(E16,Troops!$A$3:$D$158,3,FALSE)))+R16+T16,"-") -> 16 | X16: =IF(G16="Regimental Artillery",VLOOKUP(G16,Troops!$X$4:$Y$5,2,FALSE)) -> FALSE | Z16: =IF(G16="Cmd Shot",VLOOKUP(G16,Troops!$X$4:$Y$5,2,FALSE)) -> FALSE | AB16: =IF(G16="Stakes",VLOOKUP(G16,Troops!$X$4:$Y$6,2,FALSE)) -> FALSE
A17: 1 | B17: Artillery | E17: Light artillery | G17: --------------- | H17: --------------- | I17: =IFERROR(R17+T17+V17+X17+Z17+AB17,"-") -> 6 | K17: =IFERROR(SUM(A17*I17),"N/A") -> 6 | M17: =VLOOKUP(E17,Troops!$A$3:$G$158,5,FALSE)*A17 -> 0 | O17: =VLOOKUP(E17,Troops!$A$3:$F$158,6,FALSE) -> 1 | P17: =O17*A17 -> 1 | R17: {=IF(AND(H17="Elite",G17="Cmd Shot"),N/A)} -> FALSE | T17: {=IF(AND(H17="mediocre",G17="Regimental Artillery"),N/A)} -> FALSE | V17: =IFERROR(IF(H17="Elite",VLOOKUP(E17,Troops!$A$3:$D$158,4,FALSE),IF(H17="Mediocre",VLOOKUP(E17,Troops!$A$3:$D$158,2,FALSE),VLOOKUP(E17,Troops!$A$3:$D$158,3,FALSE)))+R17+T17,"-") -> 6 | X17: =IF(G17="Regimental Artillery",VLOOKUP(G17,Troops!$X$4:$Y$5,2,FALSE)) -> FALSE | Z17: =IF(G17="Cmd Shot",VLOOKUP(G17,Troops!$X$4:$Y$5,2,FALSE)) -> FALSE | AB17: =IF(G17="Stakes",VLOOKUP(G17,Troops!$X$4:$Y$6,2,FALSE)) -> FALSE
E18: --------------- | G18: --------------- | H18: --------------- | I18: =IFERROR(R18+T18+V18+X18+Z18+AB18,"-") -> 0 | K18: =IFERROR(SUM(A18*I18),"N/A") -> 0 | M18: =VLOOKUP(E18,Troops!$A$3:$G$158,5,FALSE)*A18 -> 0 | O18: =VLOOKUP(E18,Troops!$A$3:$F$158,6,FALSE) -> 0 | P18: =O18*A18 -> 0 | R18: {=IF(AND(H18="Elite",G18="Cmd Shot"),N/A)} -> FALSE | T18: {=IF(AND(H18="mediocre",G18="Regimental Artillery"),N/A)} -> FALSE | V18: =IFERROR(IF(H18="Elite",VLOOKUP(E18,Troops!$A$3:$D$158,4,FALSE),IF(H18="Mediocre",VLOOKUP(E18,Troops!$A$3:$D$158,2,FALSE),VLOOKUP(E18,Troops!$A$3:$D$158,3,FALSE)))+R18+T18,"-") -> 0 | X18: =IF(G18="Regimental Artillery",VLOOKUP(G18,Troops!$X$4:$Y$5,2,FALSE)) -> FALSE | Z18: =IF(G18="Cmd Shot",VLOOKUP(G18,Troops!$X$4:$Y$5,2,FALSE)) -> FALSE | AB18: =IF(G18="Stakes",VLOOKUP(G18,Troops!$X$4:$Y$6,2,FALSE)) -> FALSE
E19: --------------- | G19: --------------- | H19: --------------- | I19: =IFERROR(R19+T19+V19+X19+Z19+AB19,"-") -> 0 | K19: =IFERROR(SUM(A19*I19),"N/A") -> 0 | M19: =VLOOKUP(E19,Troops!$A$3:$G$158,5,FALSE)*A19 -> 0 | O19: =VLOOKUP(E19,Troops!$A$3:$F$158,6,FALSE) -> 0 | P19: =O19*A19 -> 0 | R19: {=IF(AND(H19="Elite",G19="Cmd Shot"),N/A)} -> FALSE | T19: {=IF(AND(H19="mediocre",G19="Regimental Artillery"),N/A)} -> FALSE | V19: =IFERROR(IF(H19="Elite",VLOOKUP(E19,Troops!$A$3:$D$158,4,FALSE),IF(H19="Mediocre",VLOOKUP(E19,Troops!$A$3:$D$158,2,FALSE),VLOOKUP(E19,Troops!$A$3:$D$158,3,FALSE)))+R19+T19,"-") -> 0 | X19: =IF(G19="Regimental Artillery",VLOOKUP(G19,Troops!$X$4:$Y$5,2,FALSE)) -> FALSE | Z19: =IF(G19="Cmd Shot",VLOOKUP(G19,Troops!$X$4:$Y$5,2,FALSE)) -> FALSE | AB19: =IF(G19="Stakes",VLOOKUP(G19,Troops!$X$4:$Y$6,2,FALSE)) -> FALSE
A20: =SUM(P$12:P$19) -> 9 | K20: =SUM(K12:K19)+K10 -> 80
A22: Corps II | E22: Commander Name | H22: Value | I22: Type | K22: Budget | O22: Break Points | P22: Unit Qty | R22: Cmd Shot | T22: Regimental Artillery | V22: Budget | X22: Cmd Budget | Z22: Reg Budget | AB22: Stakes
H23: Competent | I23: --------------- | K23: =VLOOKUP(H23,Troops!$H$3:$I$7,2,FALSE)+VLOOKUP(I23,Troops!$K$3:$L$8,2,FALSE) -> 3
A24: Quantity | B24: Troop description | E24: Troop Type | G24: Options | H24: Quality | I24: Budget | K24: Total
A25: 3 | B25: Veteran Foot | E25: Pike & Shot musket | G25: --------------- | H25: Elite | I25: =IFERROR(R25+T25+V25+X25+Z25+AB25,"-") -> 19 | K25: =IFERROR(SUM(A25*I25),"N/A") -> 57 | M25: =VLOOKUP(E25,Troops!$A$3:$G$158,5,FALSE)*A25 -> 0 | O25: =VLOOKUP(E25,Troops!$A$3:$F$158,6,FALSE) -> 2 | P25: =O25*A25 -> 6 | R25: {=IF(AND(H25="Elite",G25="Cmd Shot"),N/A)} -> FALSE | T25: {=IF(AND(H25="mediocre",G25="Regimental Artillery"),N/A)} -> FALSE | V25: =IFERROR(IF(H25="Elite",VLOOKUP(E25,Troops!$A$3:$D$158,4,FALSE),IF(H25="Mediocre",VLOOKUP(E25,Troops!$A$3:$D$158,2,FALSE),VLOOKUP(E25,Troops!$A$3:$D$158,3,FALSE)))+R25+T25,"-") -> 19 | X25: =IF(G25="Regimental Artillery",VLOOKUP(G25,Troops!$X$4:$Y$5,2,FALSE)) -> FALSE | Z25: =IF(G25="Cmd Shot",VLOOKUP(G25,Troops!$X$4:$Y$5,2,FALSE)) -> FALSE | AB25: =IF(G25="Stakes",VLOOKUP(G25,Troops!$X$4:$Y$6,2,FALSE)) -> FALSE
A26: 1 | B26: Foot Regiments | E26: Pike & Shot musket | G26: --------------- | H26: --------------- | I26: =IFERROR(R26+T26+V26+X26+Z26+AB26,"-") -> 16 | K26: =IFERROR(SUM(A26*I26),"N/A") -> 16 | M26: =VLOOKUP(E26,Troops!$A$3:$G$158,5,FALSE)*A26 -> 0 | O26: =VLOOKUP(E26,Troops!$A$3:$F$158,6,FALSE) -> 2 | P26: =O26*A26 -> 2 | R26: {=IF(AND(H26="Elite",G26="Cmd Shot"),N/A)} -> FALSE | T26: {=IF(AND(H26="mediocre",G26="Regimental Artillery"),N/A)} -> FALSE | V26: =IFERROR(IF(H26="Elite",VLOOKUP(E26,Troops!$A$3:$D$158,4,FALSE),IF(H26="Mediocre",VLOOKUP(E26,Troops!$A$3:$D$158,2,FALSE),VLOOKUP(E26,Troops!$A$3:$D$158,3,FALSE)))+R26+T26,"-") -> 16 | X26: =IF(G26="Regimental Artillery",VLOOKUP(G26,Troops!$X$4:$Y$5,2,FALSE)) -> FALSE | Z26: =IF(G26="Cmd Shot",VLOOKUP(G26,Troops!$X$4:$Y$5,2,FALSE)) -> FALSE | AB26: =IF(G26="Stakes",VLOOKUP(G26,Troops!$X$4:$Y$6,2,FALSE)) -> FALSE
E27: --------------- | G27: --------------- | H27: --------------- | I27: =IFERROR(R27+T27+V27+X27+Z27+AB27,"-") -> 0 | K27: =IFERROR(SUM(A27*I27),"N/A") -> 0 | M27: =VLOOKUP(E27,Troops!$A$3:$G$158,5,FALSE)*A27 -> 0 | O27: =VLOOKUP(E27,Troops!$A$3:$F$158,6,FALSE) -> 0 | P27: =O27*A27 -> 0 | R27: {=IF(AND(H27="Elite",G27="Cmd Shot"),N/A)} -> FALSE | T27: {=IF(AND(H27="mediocre",G27="Regimental Artillery"),N/A)} -> FALSE | V27: =IFERROR(IF(H27="Elite",VLOOKUP(E27,Troops!$A$3:$D$158,4,FALSE),IF(H27="Mediocre",VLOOKUP(E27,Troops!$A$3:$D$158,2,FALSE),VLOOKUP(E27,Troops!$A$3:$D$158,3,FALSE)))+R27+T27,"-") -> 0 | X27: =IF(G27="Regimental Artillery",VLOOKUP(G27,Troops!$X$4:$Y$5,2,FALSE)) -> FALSE | Z27: =IF(G27="Cmd Shot",VLOOKUP(G27,Troops!$X$4:$Y$5,2,FALSE)) -> FALSE | AB27: =IF(G27="Stakes",VLOOKUP(G27,Troops!$X$4:$Y$6,2,FALSE)) -> FALSE
E28: --------------- | G28: --------------- | H28: --------------- | I28: =IFERROR(R28+T28+V28+X28+Z28+AB28,"-") -> 0 | K28: =IFERROR(SUM(A28*I28),"N/A") -> 0 | M28: =VLOOKUP(E28,Troops!$A$3:$G$158,5,FALSE)*A28 -> 0 | O28: =VLOOKUP(E28,Troops!$A$3:$F$158,6,FALSE) -> 0 | P28: =O28*A28 -> 0 | R28: {=IF(AND(H28="Elite",G28="Cmd Shot"),N/A)} -> FALSE | T28: {=IF(AND(H28="mediocre",G28="Regimental Artillery"),N/A)} -> FALSE | V28: =IFERROR(IF(H28="Elite",VLOOKUP(E28,Troops!$A$3:$D$158,4,FALSE),IF(H28="Mediocre",VLOOKUP(E28,Troops!$A$3:$D$158,2,FALSE),VLOOKUP(E28,Troops!$A$3:$D$158,3,FALSE)))+R28+T28,"-") -> 0 | X28: =IF(G28="Regimental Artillery",VLOOKUP(G28,Troops!$X$4:$Y$5,2,FALSE)) -> FALSE | Z28: =IF(G28="Cmd Shot",VLOOKUP(G28,Troops!$X$4:$Y$5,2,FALSE)) -> FALSE | AB28: =IF(G28="Stakes",VLOOKUP(G28,Troops!$X$4:$Y$6,2,FALSE)) -> FALSE
A29: =SUM(P$25:P$28) -> 8 | K29: =SUM(K25:K28)+K23 -> 76
A31: Corps III | E31: Commander Name | H31: Value | I31: Type | K31: Budget | O31: Break Points | P31: Unit Qty | R31: Cmd Shot | T31: Regimental Artillery | V31: Budget | X31: Cmd Budget | Z31: Reg Budget | AB31: Stakes
H32: Competent | I32: --------------- | K32: =VLOOKUP(H32,Troops!$H$3:$I$7,2,FALSE)+VLOOKUP(I32,Troops!$K$3:$L$8,2,FALSE) -> 3
A33: Quantity | B33: Troop description | E33: Troop Type | G33: Options | H33: Quality | I33: Budget | K33: Total
A34: 3 | B34: Horse* | E34: Heavy cavalry shock headstrong | G34: --------------- | H34: Elite | I34: =IFERROR(R34+T34+V34+X34+Z34+AB34,"-") -> 13 | K34: =IFERROR(SUM(A34*I34),"N/A") -> 39 | M34: =VLOOKUP(E34,Troops!$A$3:$G$158,5,FALSE)*A34 -> 0 | O34: =VLOOKUP(E34,Troops!$A$3:$F$158,6,FALSE) -> 1 | P34: =O34*A34 -> 3 | R34: {=IF(AND(H34="Elite",G34="Cmd Shot"),N/A)} -> FALSE | T34: {=IF(AND(H34="mediocre",G34="Regimental Artillery"),N/A)} -> FALSE | V34: =IFERROR(IF(H34="Elite",VLOOKUP(E34,Troops!$A$3:$D$158,4,FALSE),IF(H34="Mediocre",VLOOKUP(E34,Troops!$A$3:$D$158,2,FALSE),VLOOKUP(E34,Troops!$A$3:$D$158,3,FALSE)))+R34+T34,"-") -> 13 | X34: =IF(G34="Regimental Artillery",VLOOKUP(G34,Troops!$X$4:$Y$5,2,FALSE)) -> FALSE | Z34: =IF(G34="Cmd Shot",VLOOKUP(G34,Troops!$X$4:$Y$5,2,FALSE)) -> FALSE | AB34: =IF(G34="Stakes",VLOOKUP(G34,Troops!$X$4:$Y$6,2,FALSE)) -> FALSE
A35: 1 | B35: Horse | E35: Medium cavalry shock headstrong | G35: --------------- | H35: --------------- | I35: =IFERROR(R35+T35+V35+X35+Z35+AB35,"-") -> 9 | K35: =IFERROR(SUM(A35*I35),"N/A") -> 9 | M35: =VLOOKUP(E35,Troops!$A$3:$G$158,5,FALSE)*A35 -> 0 | O35: =VLOOKUP(E35,Troops!$A$3:$F$158,6,FALSE) -> 1 | P35: =O35*A35 -> 1 | R35: {=IF(AND(H35="Elite",G35="Cmd Shot"),N/A)} -> FALSE | T35: {=IF(AND(H35="mediocre",G35="Regimental Artillery"),N/A)} -> FALSE | V35: =IFERROR(IF(H35="Elite",VLOOKUP(E35,Troops!$A$3:$D$158,4,FALSE),IF(H35="Mediocre",VLOOKUP(E35,Troops!$A$3:$D$158,2,FALSE),VLOOKUP(E35,Troops!$A$3:$D$158,3,FALSE)))+R35+T35,"-") -> 9 | X35: =IF(G35="Regimental Artillery",VLOOKUP(G35,Troops!$X$4:$Y$5,2,FALSE)) -> FALSE | Z35: =IF(G35="Cmd Shot",VLOOKUP(G35,Troops!$X$4:$Y$5,2,FALSE)) -> FALSE | AB35: =IF(G35="Stakes",VLOOKUP(G35,Troops!$X$4:$Y$6,2,FALSE)) -> FALSE
A36: 1 | B36: Commanded out musketeers | E36: Musketeer | G36: --------------- | H36: --------------- | I36: =IFERROR(R36+T36+V36+X36+Z36+AB36,"-") -> 11 | K36: =IFERROR(SUM(A36*I36),"N/A") -> 11 | M36: =VLOOKUP(E36,Troops!$A$3:$G$158,5,FALSE)*A36 -> 0 | O36: =VLOOKUP(E36,Troops!$A$3:$F$158,6,FALSE) -> 2 | P36: =O36*A36 -> 2 | R36: {=IF(AND(H36="Elite",G36="Cmd Shot"),N/A)} -> FALSE | T36: {=IF(AND(H36="mediocre",G36="Regimental Artillery"),N/A)} -> FALSE | V36: =IFERROR(IF(H36="Elite",VLOOKUP(E36,Troops!$A$3:$D$158,4,FALSE),IF(H36="Mediocre",VLOOKUP(E36,Troops!$A$3:$D$158,2,FALSE),VLOOKUP(E36,Troops!$A$3:$D$158,3,FALSE)))+R36+T36,"-") -> 11 | X36: =IF(G36="Regimental Artillery",VLOOKUP(G36,Troops!$X$4:$Y$5,2,FALSE)) -> FALSE | Z36: =IF(G36="Cmd Shot",VLOOKUP(G36,Troops!$X$4:$Y$5,2,FALSE)) -> FALSE | AB36: =IF(G36="Stakes",VLOOKUP(G36,Troops!$X$4:$Y$6,2,FALSE)) -> FALSE
E37: --------------- | G37: --------------- | H37: --------------- | I37: =IFERROR(R37+T37+V37+X37+Z37+AB37,"-") -> 0 | K37: =IFERROR(SUM(A37*I37),"N/A") -> 0 | M37: =VLOOKUP(E37,Troops!$A$3:$G$158,5,FALSE)*A37 -> 0 | O37: =VLOOKUP(E37,Troops!$A$3:$F$158,6,FALSE) -> 0 | P37: =O37*A37 -> 0 | R37: {=IF(AND(H37="Elite",G37="Cmd Shot"),N/A)} -> FALSE | T37: {=IF(AND(H37="mediocre",G37="Regimental Artillery"),N/A)} -> FALSE | V37: =IFERROR(IF(H37="Elite",VLOOKUP(E37,Troops!$A$3:$D$158,4,FALSE),IF(H37="Mediocre",VLOOKUP(E37,Troops!$A$3:$D$158,2,FALSE),VLOOKUP(E37,Troops!$A$3:$D$158,3,FALSE)))+R37+T37,"-") -> 0 | X37: =IF(G37="Regimental Artillery",VLOOKUP(G37,Troops!$X$4:$Y$5,2,FALSE)) -> FALSE | Z37: =IF(G37="Cmd Shot",VLOOKUP(G37,Troops!$X$4:$Y$5,2,FALSE)) -> FALSE | AB37: =IF(G37="Stakes",VLOOKUP(G37,Troops!$X$4:$Y$6,2,FALSE)) -> FALSE
A38: =SUM(P$34:P$37) -> 6 | K38: =SUM(K34:K37)+K32 -> 62
M39: =SUM(M12:M37) -> 1
A40: =SUM(A20+A29+A38+M5) -> 23 | B40: Units in the army | H40: Total budget : | K40: =SUM(F7+K6+K7+K20+K29+K38) -> 218

Sheet Large battle (330 pts)
C2: List | D2: Name | G2: Date/Option | K2: Initiative | M2: Scouting Bonus | O2: Break Points
B3: 330 pts | D3: =VLOOKUP(C3,'Armies v4'!A1:B92,2,FALSE) -> ---------------------- | K3: =ROUNDDOWN(SUM(IF(H10="Competent",1,IF(H10="Brilliant",2,IF(H10="Strategist",2,0))),IF(H24="Competent",1,IF(H24="Brilliant",2,IF(H24="Strategist",2,0))),IF(H38="Competent",1,IF(H38="Brilliant",2,IF(H38="Strategist",2,0))))/2+IF(H10="Strategist",1,IF(H24="Strategist",1,IF(H38="Strategist",1,0))),0)+M3 -> 0 | M3: =IF(M50>=6,2,IF(M50>=2,1,0)) -> 0
B5: V4 | C5: Regions | F5: Type of Camp | H5: Defences | J5: Qty | K5: Budget | M5: =IF(F6="Fortified",1) -> FALSE
C6: --------------- | E6: --------------- | F6: --------------- | H6: Fortifications | J6: 0 | K6: =J6*1 -> 0
C7: --------------- | E7: --------------- | F7: =IFERROR(VLOOKUP(F6,Troops!AG4:AH5,2,FALSE),"0") -> 0 | H7: Obstacles | J7: 0 | K7: =J7*0.5 -> 0
A9: Corps I | E9: Commander Name | H9: Value | I9: Type | K9: Budget | M9: Scouting Troops | O9: Break Points | P9: Unit Qty | R9: Cmd Shot | T9: Regimental Artillery | V9: Budget | X9: Cmd Budget | Z9: Reg Budget | AB9: Stakes
H10: --------------- | I10: --------------- | K10: =VLOOKUP(H10,Troops!$AA$3:$AB$7,2,FALSE)+VLOOKUP(I10,Troops!$AD$3:$AE$8,2,FALSE) -> 0
A11: Quantity | B11: Troop description | E11: Troop Type | G11: Options | H11: Quality | I11: Budget | K11: Total
E12: --------------- | G12: --------------- | H12: --------------- | I12: =IFERROR(R12+T12+V12+X12+Z12+AB12,"-") -> 0 | K12: =IFERROR(SUM(A12*I12),"N/A") -> 0 | M12: =VLOOKUP(E12,Troops!$A$3:$G$158,5,FALSE)*A12 -> 0 | O12: =VLOOKUP(E12,Troops!$A$3:$F$158,6,FALSE) -> 0 | P12: =O12*A12 -> 0 | R12: {=IF(AND(H12="Elite",G12="Cmd Shot"),N/A)} -> FALSE | T12: {=IF(AND(H12="mediocre",G12="Regimental Artillery"),N/A)} -> FALSE | V12: =IFERROR(IF(H12="Elite",VLOOKUP(E12,Troops!$A$3:$D$158,4,FALSE),IF(H12="Mediocre",VLOOKUP(E12,Troops!$A$3:$D$158,2,FALSE),VLOOKUP(E12,Troops!$A$3:$D$158,3,FALSE)))+R12+T12,"-") -> 0 | X12: =IF(G12="Regimental Artillery",VLOOKUP(G12,Troops!$X$4:$Y$5,2,FALSE)) -> FALSE | Z12: =IF(G12="Cmd Shot",VLOOKUP(G12,Troops!$X$4:$Y$5,2,FALSE)) -> FALSE | AB12: =IF(G12="Stakes",VLOOKUP(G12,Troops!$X$4:$Y$6,2,FALSE)) -> FALSE
E13: --------------- | G13: --------------- | H13: --------------- | I13: =IFERROR(R13+T13+V13+X13+Z13+AB13,"-") -> 0 | K13: =IFERROR(SUM(A13*I13),"N/A") -> 0 | M13: =VLOOKUP(E13,Troops!$A$3:$G$158,5,FALSE)*A13 -> 0 | O13: =VLOOKUP(E13,Troops!$A$3:$F$158,6,FALSE) -> 0 | P13: =O13*A13 -> 0 | R13: {=IF(AND(H13="Elite",G13="Cmd Shot"),N/A)} -> FALSE | T13: {=IF(AND(H13="mediocre",G13="Regimental Artillery"),N/A)} -> FALSE | V13: =IFERROR(IF(H13="Elite",VLOOKUP(E13,Troops!$A$3:$D$158,4,FALSE),IF(H13="Mediocre",VLOOKUP(E13,Troops!$A$3:$D$158,2,FALSE),VLOOKUP(E13,Troops!$A$3:$D$158,3,FALSE)))+R13+T13,"-") -> 0 | X13: =IF(G13="Regimental Artillery",VLOOKUP(G13,Troops!$X$4:$Y$5,2,FALSE)) -> FALSE | Z13: =IF(G13="Cmd Shot",VLOOKUP(G13,Troops!$X$4:$Y$5,2,FALSE)) -> FALSE | AB13: =IF(G13="Stakes",VLOOKUP(G13,Troops!$X$4:$Y$6,2,FALSE)) -> FALSE
E14: --------------- | G14: --------------- | H14: --------------- | I14: =IFERROR(R14+T14+V14+X14+Z14+AB14,"-") -> 0 | K14: =IFERROR(SUM(A14*I14),"N/A") -> 0 | M14: =VLOOKUP(E14,Troops!$A$3:$G$158,5,FALSE)*A14 -> 0 | O14: =VLOOKUP(E14,Troops!$A$3:$F$158,6,FALSE) -> 0 | P14: =O14*A14 -> 0 | R14: {=IF(AND(H14="Elite",G14="Cmd Shot"),N/A)} -> FALSE | T14: {=IF(AND(H14="mediocre",G14="Regimental Artillery"),N/A)} -> FALSE | V14: =IFERROR(IF(H14="Elite",VLOOKUP(E14,Troops!$A$3:$D$158,4,FALSE),IF(H14="Mediocre",VLOOKUP(E14,Troops!$A$3:$D$158,2,FALSE),VLOOKUP(E14,Troops!$A$3:$D$158,3,FALSE)))+R14+T14,"-") -> 0 | X14: =IF(G14="Regimental Artillery",VLOOKUP(G14,Troops!$X$4:$Y$5,2,FALSE)) -> FALSE | Z14: =IF(G14="Cmd Shot",VLOOKUP(G14,Troops!$X$4:$Y$5,2,FALSE)) -> FALSE | AB14: =IF(G14="Stakes",VLOOKUP(G14,Troops!$X$4:$Y$6,2,FALSE)) -> FALSE
E15: --------------- | G15: --------------- | H15: --------------- | I15: =IFERROR(R15+T15+V15+X15+Z15+AB15,"-") -> 0 | K15: =IFERROR(SUM(A15*I15),"N/A") -> 0 | M15: =VLOOKUP(E15,Troops!$A$3:$G$158,5,FALSE)*A15 -> 0 | O15: =VLOOKUP(E15,Troops!$A$3:$F$158,6,FALSE) -> 0 | P15: =O15*A15 -> 0 | R15: {=IF(AND(H15="Elite",G15="Cmd Shot"),N/A)} -> FALSE | T15: {=IF(AND(H15="mediocre",G15="Regimental Artillery"),N/A)} -> FALSE | V15: =IFERROR(IF(H15="Elite",VLOOKUP(E15,Troops!$A$3:$D$158,4,FALSE),IF(H15="Mediocre",VLOOKUP(E15,Troops!$A$3:$D$158,2,FALSE),VLOOKUP(E15,Troops!$A$3:$D$158,3,FALSE)))+R15+T15,"-") -> 0 | X15: =IF(G15="Regimental Artillery",VLOOKUP(G15,Troops!$X$4:$Y$5,2,FALSE)) -> FALSE | Z15: =IF(G15="Cmd Shot",VLOOKUP(G15,Troops!$X$4:$Y$5,2,FALSE)) -> FALSE | AB15: =IF(G15="Stakes",VLOOKUP(G15,Troops!$X$4:$Y$6,2,FALSE)) -> FALSE
E16: --------------- | G16: --------------- | H16: --------------- | I16: =IFERROR(R16+T16+V16+X16+Z16+AB16,"-") -> 0 | K16: =IFERROR(SUM(A16*I16),"N/A") -> 0 | M16: =VLOOKUP(E16,Troops!$A$3:$G$158,5,FALSE)*A16 -> 0 | O16: =VLOOKUP(E16,Troops!$A$3:$F$158,6,FALSE) -> 0 | P16: =O16*A16 -> 0 | R16: {=IF(AND(H16="Elite",G16="Cmd Shot"),N/A)} -> FALSE | T16: {=IF(AND(H16="mediocre",G16="Regimental Artillery"),N/A)} -> FALSE | V16: =IFERROR(IF(H16="Elite",VLOOKUP(E16,Troops!$A$3:$D$158,4,FALSE),IF(H16="Mediocre",VLOOKUP(E16,Troops!$A$3:$D$158,2,FALSE),VLOOKUP(E16,Troops!$A$3:$D$158,3,FALSE)))+R16+T16,"-") -> 0 | X16: =IF(G16="Regimental Artillery",VLOOKUP(G16,Troops!$X$4:$Y$5,2,FALSE)) -> FALSE | Z16: =IF(G16="Cmd Shot",VLOOKUP(G16,Troops!$X$4:$Y$5,2,FALSE)) -> FALSE | AB16: =IF(G16="Stakes",VLOOKUP(G16,Troops!$X$4:$Y$6,2,FALSE)) -> FALSE
E17: --------------- | G17: --------------- | H17: --------------- | I17: =IFERROR(R17+T17+V17+X17+Z17+AB17,"-") -> 0 | K17: =IFERROR(SUM(A17*I17),"N/A") -> 0 | M17: =VLOOKUP(E17,Troops!$A$3:$G$158,5,FALSE)*A17 -> 0 | O17: =VLOOKUP(E17,Troops!$A$3:$F$158,6,FALSE) -> 0 | P17: =O17*A17 -> 0 | R17: {=IF(AND(H17="Elite",G17="Cmd Shot"),N/A)} -> FALSE | T17: {=IF(AND(H17="mediocre",G17="Regimental Artillery"),N/A)} -> FALSE | V17: =IFERROR(IF(H17="Elite",VLOOKUP(E17,Troops!$A$3:$D$158,4,FALSE),IF(H17="Mediocre",VLOOKUP(E17,Troops!$A$3:$D$158,2,FALSE),VLOOKUP(E17,Troops!$A$3:$D$158,3,FALSE)))+R17+T17,"-") -> 0 | X17: =IF(G17="Regimental Artillery",VLOOKUP(G17,Troops!$X$4:$Y$5,2,FALSE)) -> FALSE | Z17: =IF(G17="Cmd Shot",VLOOKUP(G17,Troops!$X$4:$Y$5,2,FALSE)) -> FALSE | AB17: =IF(G17="Stakes",VLOOKUP(G17,Troops!$X$4:$Y$6,2,FALSE)) -> FALSE
E18: --------------- | G18: --------------- | H18: --------------- | I18: =IFERROR(R18+T18+V18+X18+Z18+AB18,"-") -> 0 | K18: =IFERROR(SUM(A18*I18),"N/A") -> 0 | M18: =VLOOKUP(E18,Troops!$A$3:$G$158,5,FALSE)*A18 -> 0 | O18: =VLOOKUP(E18,Troops!$A$3:$F$158,6,FALSE) -> 0 | P18: =O18*A18 -> 0 | R18: {=IF(AND(H18="Elite",G18="Cmd Shot"),N/A)} -> FALSE | T18: {=IF(AND(H18="mediocre",G18="Regimental Artillery"),N/A)} -> FALSE | V18: =IFERROR(IF(H18="Elite",VLOOKUP(E18,Troops!$A$3:$D$158,4,FALSE),IF(H18="Mediocre",VLOOKUP(E18,Troops!$A$3:$D$158,2,FALSE),VLOOKUP(E18,Troops!$A$3:$D$158,3,FALSE)))+R18+T18,"-") -> 0 | X18: =IF(G18="Regimental Artillery",VLOOKUP(G18,Troops!$X$4:$Y$5,2,FALSE)) -> FALSE | Z18: =IF(G18="Cmd Shot",VLOOKUP(G18,Troops!$X$4:$Y$5,2,FALSE)) -> FALSE | AB18: =IF(G18="Stakes",VLOOKUP(G18,Troops!$X$4:$Y$6,2,FALSE)) -> FALSE
E19: --------------- | G19: --------------- | H19: --------------- | I19: =IFERROR(R19+T19+V19+X19+Z19+AB19,"-") -> 0 | K19: =IFERROR(SUM(A19*I19),"N/A") -> 0 | M19: =VLOOKUP(E19,Troops!$A$3:$G$158,5,FALSE)*A19 -> 0 | O19: =VLOOKUP(E19,Troops!$A$3:$F$158,6,FALSE) -> 0 | P19: =O19*A19 -> 0 | R19: {=IF(AND(H19="Elite",G19="Cmd Shot"),N/A)} -> FALSE | T19: {=IF(AND(H19="mediocre",G19="Regimental Artillery"),N/A)} -> FALSE | V19: =IFERROR(IF(H19="Elite",VLOOKUP(E19,Troops!$A$3:$D$158,4,FALSE),IF(H19="Mediocre",VLOOKUP(E19,Troops!$A$3:$D$158,2,FALSE),VLOOKUP(E19,Troops!$A$3:$D$158,3,FALSE)))+R19+T19,"-") -> 0 | X19: =IF(G19="Regimental Artillery",VLOOKUP(G19,Troops!$X$4:$Y$5,2,FALSE)) -> FALSE | Z19: =IF(G19="Cmd Shot",VLOOKUP(G19,Troops!$X$4:$Y$5,2,FALSE)) -> FALSE | AB19: =IF(G19="Stakes",VLOOKUP(G19,Troops!$X$4:$Y$6,2,FALSE)) -> FALSE
E20: --------------- | G20: --------------- | H20: --------------- | I20: =IFERROR(R20+T20+V20+X20+Z20+AB20,"-") -> 0 | K20: =IFERROR(SUM(A20*I20),"N/A") -> 0 | M20: =VLOOKUP(E20,Troops!$A$3:$G$158,5,FALSE)*A20 -> 0 | O20: =VLOOKUP(E20,Troops!$A$3:$F$158,6,FALSE) -> 0 | P20: =O20*A20 -> 0 | R20: {=IF(AND(H20="Elite",G20="Cmd Shot"),N/A)} -> FALSE | T20: {=IF(AND(H20="mediocre",G20="Regimental Artillery"),N/A)} -> FALSE | V20: =IFERROR(IF(H20="Elite",VLOOKUP(E20,Troops!$A$3:$D$158,4,FALSE),IF(H20="Mediocre",VLOOKUP(E20,Troops!$A$3:$D$158,2,FALSE),VLOOKUP(E20,Troops!$A$3:$D$158,3,FALSE)))+R20+T20,"-") -> 0 | X20: =IF(G20="Regimental Artillery",VLOOKUP(G20,Troops!$X$4:$Y$5,2,FALSE)) -> FALSE | Z20: =IF(G20="Cmd Shot",VLOOKUP(G20,Troops!$X$4:$Y$5,2,FALSE)) -> FALSE | AB20: =IF(G20="Stakes",VLOOKUP(G20,Troops!$X$4:$Y$6,2,FALSE)) -> FALSE
A21: =SUM($P12:$P20) -> 0 | K21: =SUM(K12:K20)+K10 -> 0
A23: Corps II | E23: Commander Name | H23: Value | I23: Type | K23: Budget | O23: Break Points | P23: Unit Qty | R23: Cmd Shot | T23: Regimental Artillery | V23: Budget | X23: Cmd Budget | Z23: Reg Budget | AB23: Stakes
H24: --------------- | I24: --------------- | K24: =VLOOKUP(H24,Troops!$AA$3:$AB$7,2,FALSE)+VLOOKUP(I24,Troops!$AD$3:$AE$8,2,FALSE) -> 0
A25: Quantity | B25: Troop description | E25: Troop Type | G25: Options | H25: Quality | I25: Budget | K25: Total
E26: --------------- | G26: --------------- | H26: --------------- | I26: =IFERROR(R26+T26+V26+X26+Z26+AB26,"-") -> 0 | K26: =IFERROR(SUM(A26*I26),"N/A") -> 0 | M26: =VLOOKUP(E26,Troops!$A$3:$G$158,5,FALSE)*A26 -> 0 | O26: =VLOOKUP(E26,Troops!$A$3:$F$158,6,FALSE) -> 0 | P26: =O26*A26 -> 0 | R26: {=IF(AND(H26="Elite",G26="Cmd Shot"),N/A)} -> FALSE | T26: {=IF(AND(H26="mediocre",G26="Regimental Artillery"),N/A)} -> FALSE | V26: =IFERROR(IF(H26="Elite",VLOOKUP(E26,Troops!$A$3:$D$158,4,FALSE),IF(H26="Mediocre",VLOOKUP(E26,Troops!$A$3:$D$158,2,FALSE),VLOOKUP(E26,Troops!$A$3:$D$158,3,FALSE)))+R26+T26,"-") -> 0 | X26: =IF(G26="Regimental Artillery",VLOOKUP(G26,Troops!$X$4:$Y$5,2,FALSE)) -> FALSE | Z26: =IF(G26="Cmd Shot",VLOOKUP(G26,Troops!$X$4:$Y$5,2,FALSE)) -> FALSE | AB26: =IF(G26="Stakes",VLOOKUP(G26,Troops!$X$4:$Y$6,2,FALSE)) -> FALSE
E27: --------------- | G27: --------------- | H27: --------------- | I27: =IFERROR(R27+T27+V27+X27+Z27+AB27,"-") -> 0 | K27: =IFERROR(SUM(A27*I27),"N/A") -> 0 | M27: =VLOOKUP(E27,Troops!$A$3:$G$158,5,FALSE)*A27 -> 0 | O27: =VLOOKUP(E27,Troops!$A$3:$F$158,6,FALSE) -> 0 | P27: =O27*A27 -> 0 | R27: {=IF(AND(H27="Elite",G27="Cmd Shot"),N/A)} -> FALSE | T27: {=IF(AND(H27="mediocre",G27="Regimental Artillery"),N/A)} -> FALSE | V27: =IFERROR(IF(H27="Elite",VLOOKUP(E27,Troops!$A$3:$D$158,4,FALSE),IF(H27="Mediocre",VLOOKUP(E27,Troops!$A$3:$D$158,2,FALSE),VLOOKUP(E27,Troops!$A$3:$D$158,3,FALSE)))+R27+T27,"-") -> 0 | X27: =IF(G27="Regimental Artillery",VLOOKUP(G27,Troops!$X$4:$Y$5,2,FALSE)) -> FALSE | Z27: =IF(G27="Cmd Shot",VLOOKUP(G27,Troops!$X$4:$Y$5,2,FALSE)) -> FALSE | AB27: =IF(G27="Stakes",VLOOKUP(G27,Troops!$X$4:$Y$6,2,FALSE)) -> FALSE
E28: --------------- | G28: --------------- | H28: --------------- | I28: =IFERROR(R28+T28+V28+X28+Z28+AB28,"-") -> 0 | K28: =IFERROR(SUM(A28*I28),"N/A") -> 0 | M28: =VLOOKUP(E28,Troops!$A$3:$G$158,5,FALSE)*A28 -> 0 | O28: =VLOOKUP(E28,Troops!$A$3:$F$158,6,FALSE) -> 0 | P28: =O28*A28 -> 0 | R28: {=IF(AND(H28="Elite",G28="Cmd Shot"),N/A)} -> FALSE | T28: {=IF(AND(H28="mediocre",G28="Regimental Artillery"),N/A)} -> FALSE | V28: =IFERROR(IF(H28="Elite",VLOOKUP(E28,Troops!$A$3:$D$158,4,FALSE),IF(H28="Mediocre",VLOOKUP(E28,Troops!$A$3:$D$158,2,FALSE),VLOOKUP(E28,Troops!$A$3:$D$158,3,FALSE)))+R28+T28,"-") -> 0 | X28: =IF(G28="Regimental Artillery",VLOOKUP(G28,Troops!$X$4:$Y$5,2,FALSE)) -> FALSE | Z28: =IF(G28="Cmd Shot",VLOOKUP(G28,Troops!$X$4:$Y$5,2,FALSE)) -> FALSE | AB28: =IF(G28="Stakes",VLOOKUP(G28,Troops!$X$4:$Y$6,2,FALSE)) -> FALSE
E29: --------------- | G29: --------------- | H29: --------------- | I29: =IFERROR(R29+T29+V29+X29+Z29+AB29,"-") -> 0 | K29: =IFERROR(SUM(A29*I29),"N/A") -> 0 | M29: =VLOOKUP(E29,Troops!$A$3:$G$158,5,FALSE)*A29 -> 0 | O29: =VLOOKUP(E29,Troops!$A$3:$F$158,6,FALSE) -> 0 | P29: =O29*A29 -> 0 | R29: {=IF(AND(H29="Elite",G29="Cmd Shot"),N/A)} -> FALSE | T29: {=IF(AND(H29="mediocre",G29="Regimental Artillery"),N/A)} -> FALSE | V29: =IFERROR(IF(H29="Elite",VLOOKUP(E29,Troops!$A$3:$D$158,4,FALSE),IF(H29="Mediocre",VLOOKUP(E29,Troops!$A$3:$D$158,2,FALSE),VLOOKUP(E29,Troops!$A$3:$D$158,3,FALSE)))+R29+T29,"-") -> 0 | X29: =IF(G29="Regimental Artillery",VLOOKUP(G29,Troops!$X$4:$Y$5,2,FALSE)) -> FALSE | Z29: =IF(G29="Cmd Shot",VLOOKUP(G29,Troops!$X$4:$Y$5,2,FALSE)) -> FALSE | AB29: =IF(G29="Stakes",VLOOKUP(G29,Troops!$X$4:$Y$6,2,FALSE)) -> FALSE
E30: --------------- | G30: --------------- | H30: --------------- | I30: =IFERROR(R30+T30+V30+X30+Z30+AB30,"-") -> 0 | K30: =IFERROR(SUM(A30*I30),"N/A") -> 0 | M30: =VLOOKUP(E30,Troops!$A$3:$G$158,5,FALSE)*A30 -> 0 | O30: =VLOOKUP(E30,Troops!$A$3:$F$158,6,FALSE) -> 0 | P30: =O30*A30 -> 0 | R30: {=IF(AND(H30="Elite",G30="Cmd Shot"),N/A)} -> FALSE | T30: {=IF(AND(H30="mediocre",G30="Regimental Artillery"),N/A)} -> FALSE | V30: =IFERROR(IF(H30="Elite",VLOOKUP(E30,Troops!$A$3:$D$158,4,FALSE),IF(H30="Mediocre",VLOOKUP(E30,Troops!$A$3:$D$158,2,FALSE),VLOOKUP(E30,Troops!$A$3:$D$158,3,FALSE)))+R30+T30,"-") -> 0 | X30: =IF(G30="Regimental Artillery",VLOOKUP(G30,Troops!$X$4:$Y$5,2,FALSE)) -> FALSE | Z30: =IF(G30="Cmd Shot",VLOOKUP(G30,Troops!$X$4:$Y$5,2,FALSE)) -> FALSE | AB30: =IF(G30="Stakes",VLOOKUP(G30,Troops!$X$4:$Y$6,2,FALSE)) -> FALSE
E31: --------------- | G31: --------------- | H31: --------------- | I31: =IFERROR(R31+T31+V31+X31+Z31+AB31,"-") -> 0 | K31: =IFERROR(SUM(A31*I31),"N/A") -> 0 | M31: =VLOOKUP(E31,Troops!$A$3:$G$158,5,FALSE)*A31 -> 0 | O31: =VLOOKUP(E31,Troops!$A$3:$F$158,6,FALSE) -> 0 | P31: =O31*A31 -> 0 | R31: {=IF(AND(H31="Elite",G31="Cmd Shot"),N/A)} -> FALSE | T31: {=IF(AND(H31="mediocre",G31="Regimental Artillery"),N/A)} -> FALSE | V31: =IFERROR(IF(H31="Elite",VLOOKUP(E31,Troops!$A$3:$D$158,4,FALSE),IF(H31="Mediocre",VLOOKUP(E31,Troops!$A$3:$D$158,2,FALSE),VLOOKUP(E31,Troops!$A$3:$D$158,3,FALSE)))+R31+T31,"-") -> 0 | X31: =IF(G31="Regimental Artillery",VLOOKUP(G31,Troops!$X$4:$Y$5,2,FALSE)) -> FALSE | Z31: =IF(G31="Cmd Shot",VLOOKUP(G31,Troops!$X$4:$Y$5,2,FALSE)) -> FALSE | AB31: =IF(G31="Stakes",VLOOKUP(G31,Troops!$X$4:$Y$6,2,FALSE)) -> FALSE
E32: --------------- | G32: --------------- | H32: --------------- | I32: =IFERROR(R32+T32+V32+X32+Z32+AB32,"-") -> 0 | K32: =IFERROR(SUM(A32*I32),"N/A") -> 0 | M32: =VLOOKUP(E32,Troops!$A$3:$G$158,5,FALSE)*A32 -> 0 | O32: =VLOOKUP(E32,Troops!$A$3:$F$158,6,FALSE) -> 0 | P32: =O32*A32 -> 0 | R32: {=IF(AND(H32="Elite",G32="Cmd Shot"),N/A)} -> FALSE | T32: {=IF(AND(H32="mediocre",G32="Regimental Artillery"),N/A)} -> FALSE | V32: =IFERROR(IF(H32="Elite",VLOOKUP(E32,Troops!$A$3:$D$158,4,FALSE),IF(H32="Mediocre",VLOOKUP(E32,Troops!$A$3:$D$158,2,FALSE),VLOOKUP(E32,Troops!$A$3:$D$158,3,FALSE)))+R32+T32,"-") -> 0 | X32: =IF(G32="Regimental Artillery",VLOOKUP(G32,Troops!$X$4:$Y$5,2,FALSE)) -> FALSE | Z32: =IF(G32="Cmd Shot",VLOOKUP(G32,Troops!$X$4:$Y$5,2,FALSE)) -> FALSE | AB32: =IF(G32="Stakes",VLOOKUP(G32,Troops!$X$4:$Y$6,2,FALSE)) -> FALSE
E33: --------------- | G33: --------------- | H33: --------------- | I33: =IFERROR(R33+T33+V33+X33+Z33+AB33,"-") -> 0 | K33: =IFERROR(SUM(A33*I33),"N/A") -> 0 | M33: =VLOOKUP(E33,Troops!$A$3:$G$158,5,FALSE)*A33 -> 0 | O33: =VLOOKUP(E33,Troops!$A$3:$F$158,6,FALSE) -> 0 | P33: =O33*A33 -> 0 | R33: {=IF(AND(H33="Elite",G33="Cmd Shot"),N/A)} -> FALSE | T33: {=IF(AND(H33="mediocre",G33="Regimental Artillery"),N/A)} -> FALSE | V33: =IFERROR(IF(H33="Elite",VLOOKUP(E33,Troops!$A$3:$D$158,4,FALSE),IF(H33="Mediocre",VLOOKUP(E33,Troops!$A$3:$D$158,2,FALSE),VLOOKUP(E33,Troops!$A$3:$D$158,3,FALSE)))+R33+T33,"-") -> 0 | X33: =IF(G33="Regimental Artillery",VLOOKUP(G33,Troops!$X$4:$Y$5,2,FALSE)) -> FALSE | Z33: =IF(G33="Cmd Shot",VLOOKUP(G33,Troops!$X$4:$Y$5,2,FALSE)) -> FALSE | AB33: =IF(G33="Stakes",VLOOKUP(G33,Troops!$X$4:$Y$6,2,FALSE)) -> FALSE
E34: --------------- | G34: --------------- | H34: --------------- | I34: =IFERROR(R34+T34+V34+X34+Z34+AB34,"-") -> 0 | K34: =IFERROR(SUM(A34*I34),"N/A") -> 0 | M34: =VLOOKUP(E34,Troops!$A$3:$G$158,5,FALSE)*A34 -> 0 | O34: =VLOOKUP(E34,Troops!$A$3:$F$158,6,FALSE) -> 0 | P34: =O34*A34 -> 0 | R34: {=IF(AND(H34="Elite",G34="Cmd Shot"),N/A)} -> FALSE | T34: {=IF(AND(H34="mediocre",G34="Regimental Artillery"),N/A)} -> FALSE | V34: =IFERROR(IF(H34="Elite",VLOOKUP(E34,Troops!$A$3:$D$158,4,FALSE),IF(H34="Mediocre",VLOOKUP(E34,Troops!$A$3:$D$158,2,FALSE),VLOOKUP(E34,Troops!$A$3:$D$158,3,FALSE)))+R34+T34,"-") -> 0 | X34: =IF(G34="Regimental Artillery",VLOOKUP(G34,Troops!$X$4:$Y$5,2,FALSE)) -> FALSE | Z34: =IF(G34="Cmd Shot",VLOOKUP(G34,Troops!$X$4:$Y$5,2,FALSE)) -> FALSE | AB34: =IF(G34="Stakes",VLOOKUP(G34,Troops!$X$4:$Y$6,2,FALSE)) -> FALSE
A35: 0 | K35: =SUM(K26:K34)+K24 -> 0
A37: Corps III | E37: Commander Name | H37: Value | I37: Type | K37: Budget | O37: Break Points | P37: Unit Qty | R37: Cmd Shot | T37: Regimental Artillery | V37: Budget | X37: Cmd Budget | Z37: Reg Budget | AB37: Stakes
H38: --------------- | I38: --------------- | K38: =VLOOKUP(H38,Troops!$AA$3:$AB$7,2,FALSE)+VLOOKUP(I38,Troops!$AD$3:$AE$8,2,FALSE) -> 0
A39: Quantity | B39: Troop description | E39: Troop Type | G39: Options | H39: Quality | I39: Budget | K39: Total
E40: --------------- | G40: --------------- | H40: --------------- | I40: =IFERROR(R40+T40+V40+X40+Z40+AB40,"-") -> 0 | K40: =IFERROR(SUM(A40*I40),"N/A") -> 0 | M40: =VLOOKUP(E40,Troops!$A$3:$G$158,5,FALSE)*A40 -> 0 | O40: =VLOOKUP(E40,Troops!$A$3:$F$158,6,FALSE) -> 0 | P40: =O30*A40 -> 0 | R40: {=IF(AND(H40="Elite",G40="Cmd Shot"),N/A)} -> FALSE | T40: {=IF(AND(H40="mediocre",G40="Regimental Artillery"),N/A)} -> FALSE | V40: =IFERROR(IF(H40="Elite",VLOOKUP(E40,Troops!$A$3:$D$158,4,FALSE),IF(H40="Mediocre",VLOOKUP(E40,Troops!$A$3:$D$158,2,FALSE),VLOOKUP(E40,Troops!$A$3:$D$158,3,FALSE)))+R40+T40,"-") -> 0 | X40: =IF(G40="Regimental Artillery",VLOOKUP(G40,Troops!$X$4:$Y$5,2,FALSE)) -> FALSE | Z40: =IF(G40="Cmd Shot",VLOOKUP(G40,Troops!$X$4:$Y$5,2,FALSE)) -> FALSE | AB40: =IF(G40="Stakes",VLOOKUP(G40,Troops!$X$4:$Y$6,2,FALSE)) -> FALSE
E41: --------------- | G41: --------------- | H41: --------------- | I41: =IFERROR(R41+T41+V41+X41+Z41+AB41,"-") -> 0 | K41: =IFERROR(SUM(A41*I41),"N/A") -> 0 | M41: =VLOOKUP(E41,Troops!$A$3:$G$158,5,FALSE)*A41 -> 0 | O41: =VLOOKUP(E41,Troops!$A$3:$F$158,6,FALSE) -> 0 | P41: =O31*A41 -> 0 | R41: {=IF(AND(H41="Elite",G41="Cmd Shot"),N/A)} -> FALSE | T41: {=IF(AND(H41="mediocre",G41="Regimental Artillery"),N/A)} -> FALSE | V41: =IFERROR(IF(H41="Elite",VLOOKUP(E41,Troops!$A$3:$D$158,4,FALSE),IF(H41="Mediocre",VLOOKUP(E41,Troops!$A$3:$D$158,2,FALSE),VLOOKUP(E41,Troops!$A$3:$D$158,3,FALSE)))+R41+T41,"-") -> 0 | X41: =IF(G41="Regimental Artillery",VLOOKUP(G41,Troops!$X$4:$Y$5,2,FALSE)) -> FALSE | Z41: =IF(G41="Cmd Shot",VLOOKUP(G41,Troops!$X$4:$Y$5,2,FALSE)) -> FALSE | AB41: =IF(G41="Stakes",VLOOKUP(G41,Troops!$X$4:$Y$6,2,FALSE)) -> FALSE
E42: --------------- | G42: --------------- | H42: --------------- | I42: =IFERROR(R42+T42+V42+X42+Z42+AB42,"-") -> 0 | K42: =IFERROR(SUM(A42*I42),"N/A") -> 0 | M42: =VLOOKUP(E42,Troops!$A$3:$G$158,5,FALSE)*A42 -> 0 | O42: =VLOOKUP(E42,Troops!$A$3:$F$158,6,FALSE) -> 0 | P42: =O32*A42 -> 0 | R42: {=IF(AND(H42="Elite",G42="Cmd Shot"),N/A)} -> FALSE | T42: {=IF(AND(H42="mediocre",G42="Regimental Artillery"),N/A)} -> FALSE | V42: =IFERROR(IF(H42="Elite",VLOOKUP(E42,Troops!$A$3:$D$158,4,FALSE),IF(H42="Mediocre",VLOOKUP(E42,Troops!$A$3:$D$158,2,FALSE),VLOOKUP(E42,Troops!$A$3:$D$158,3,FALSE)))+R42+T42,"-") -> 0 | X42: =IF(G42="Regimental Artillery",VLOOKUP(G42,Troops!$X$4:$Y$5,2,FALSE)) -> FALSE | Z42: =IF(G42="Cmd Shot",VLOOKUP(G42,Troops!$X$4:$Y$5,2,FALSE)) -> FALSE | AB42: =IF(G42="Stakes",VLOOKUP(G42,Troops!$X$4:$Y$6,2,FALSE)) -> FALSE
E43: --------------- | G43: --------------- | H43: --------------- | I43: =IFERROR(R43+T43+V43+X43+Z43+AB43,"-") -> 0 | K43: =IFERROR(SUM(A43*I43),"N/A") -> 0 | M43: =VLOOKUP(E43,Troops!$A$3:$G$158,5,FALSE)*A43 -> 0 | O43: =VLOOKUP(E43,Troops!$A$3:$F$158,6,FALSE) -> 0 | P43: =O33*A43 -> 0 | R43: {=IF(AND(H43="Elite",G43="Cmd Shot"),N/A)} -> FALSE | T43: {=IF(AND(H43="mediocre",G43="Regimental Artillery"),N/A)} -> FALSE | V43: =IFERROR(IF(H43="Elite",VLOOKUP(E43,Troops!$A$3:$D$158,4,FALSE),IF(H43="Mediocre",VLOOKUP(E43,Troops!$A$3:$D$158,2,FALSE),VLOOKUP(E43,Troops!$A$3:$D$158,3,FALSE)))+R43+T43,"-") -> 0 | X43: =IF(G43="Regimental Artillery",VLOOKUP(G43,Troops!$X$4:$Y$5,2,FALSE)) -> FALSE | Z43: =IF(G43="Cmd Shot",VLOOKUP(G43,Troops!$X$4:$Y$5,2,FALSE)) -> FALSE | AB43: =IF(G43="Stakes",VLOOKUP(G43,Troops!$X$4:$Y$6,2,FALSE)) -> FALSE
E44: --------------- | G44: --------------- | H44: --------------- | I44: =IFERROR(R44+T44+V44+X44+Z44+AB44,"-") -> 0 | K44: =IFERROR(SUM(A44*I44),"N/A") -> 0 | M44: =VLOOKUP(E44,Troops!$A$3:$G$158,5,FALSE)*A44 -> 0 | O44: =VLOOKUP(E44,Troops!$A$3:$F$158,6,FALSE) -> 0 | P44: =O32*A44 -> 0 | R44: {=IF(AND(H44="Elite",G44="Cmd Shot"),N/A)} -> FALSE | T44: {=IF(AND(H44="mediocre",G44="Regimental Artillery"),N/A)} -> FALSE | V44: =IFERROR(IF(H44="Elite",VLOOKUP(E44,Troops!$A$3:$D$158,4,FALSE),IF(H44="Mediocre",VLOOKUP(E44,Troops!$A$3:$D$158,2,FALSE),VLOOKUP(E44,Troops!$A$3:$D$158,3,FALSE)))+R44+T44,"-") -> 0 | X44: =IF(G44="Regimental Artillery",VLOOKUP(G44,Troops!$X$4:$Y$5,2,FALSE)) -> FALSE | Z44: =IF(G44="Cmd Shot",VLOOKUP(G44,Troops!$X$4:$Y$5,2,FALSE)) -> FALSE | AB44: =IF(G44="Stakes",VLOOKUP(G44,Troops!$X$4:$Y$6,2,FALSE)) -> FALSE
E45: --------------- | G45: --------------- | H45: --------------- | I45: =IFERROR(R45+T45+V45+X45+Z45+AB45,"-") -> 0 | K45: =IFERROR(SUM(A45*I45),"N/A") -> 0 | M45: =VLOOKUP(E45,Troops!$A$3:$G$158,5,FALSE)*A45 -> 0 | O45: =VLOOKUP(E45,Troops!$A$3:$F$158,6,FALSE) -> 0 | P45: =O33*A45 -> 0 | R45: {=IF(AND(H45="Elite",G45="Cmd Shot"),N/A)} -> FALSE | T45: {=IF(AND(H45="mediocre",G45="Regimental Artillery"),N/A)} -> FALSE | V45: =IFERROR(IF(H45="Elite",VLOOKUP(E45,Troops!$A$3:$D$158,4,FALSE),IF(H45="Mediocre",VLOOKUP(E45,Troops!$A$3:$D$158,2,FALSE),VLOOKUP(E45,Troops!$A$3:$D$158,3,FALSE)))+R45+T45,"-") -> 0 | X45: =IF(G45="Regimental Artillery",VLOOKUP(G45,Troops!$X$4:$Y$5,2,FALSE)) -> FALSE | Z45: =IF(G45="Cmd Shot",VLOOKUP(G45,Troops!$X$4:$Y$5,2,FALSE)) -> FALSE | AB45: =IF(G45="Stakes",VLOOKUP(G45,Troops!$X$4:$Y$6,2,FALSE)) -> FALSE
E46: --------------- | G46: --------------- | H46: --------------- | I46: =IFERROR(R46+T46+V46+X46+Z46+AB46,"-") -> 0 | K46: =IFERROR(SUM(A46*I46),"N/A") -> 0 | M46: =VLOOKUP(E46,Troops!$A$3:$G$158,5,FALSE)*A46 -> 0 | O46: =VLOOKUP(E46,Troops!$A$3:$F$158,6,FALSE) -> 0 | P46: =O34*A46 -> 0 | R46: {=IF(AND(H46="Elite",G46="Cmd Shot"),N/A)} -> FALSE | T46: {=IF(AND(H46="mediocre",G46="Regimental Artillery"),N/A)} -> FALSE | V46: =IFERROR(IF(H46="Elite",VLOOKUP(E46,Troops!$A$3:$D$158,4,FALSE),IF(H46="Mediocre",VLOOKUP(E46,Troops!$A$3:$D$158,2,FALSE),VLOOKUP(E46,Troops!$A$3:$D$158,3,FALSE)))+R46+T46,"-") -> 0 | X46: =IF(G46="Regimental Artillery",VLOOKUP(G46,Troops!$X$4:$Y$5,2,FALSE)) -> FALSE | Z46: =IF(G46="Cmd Shot",VLOOKUP(G46,Troops!$X$4:$Y$5,2,FALSE)) -> FALSE | AB46: =IF(G46="Stakes",VLOOKUP(G46,Troops!$X$4:$Y$6,2,FALSE)) -> FALSE
E47: --------------- | G47: --------------- | H47: --------------- | I47: =IFERROR(R47+T47+V47+X47+Z47+AB47,"-") -> 0 | K47: =IFERROR(SUM(A47*I47),"N/A") -> 0 | M47: =VLOOKUP(E47,Troops!$A$3:$G$158,5,FALSE)*A47 -> 0 | O47: =VLOOKUP(E47,Troops!$A$3:$F$158,6,FALSE) -> 0 | P47: =O35*A47 -> 0 | R47: {=IF(AND(H47="Elite",G47="Cmd Shot"),N/A)} -> FALSE | T47: {=IF(AND(H47="mediocre",G47="Regimental Artillery"),N/A)} -> FALSE | V47: =IFERROR(IF(H47="Elite",VLOOKUP(E47,Troops!$A$3:$D$158,4,FALSE),IF(H47="Mediocre",VLOOKUP(E47,Troops!$A$3:$D$158,2,FALSE),VLOOKUP(E47,Troops!$A$3:$D$158,3,FALSE)))+R47+T47,"-") -> 0 | X47: =IF(G47="Regimental Artillery",VLOOKUP(G47,Troops!$X$4:$Y$5,2,FALSE)) -> FALSE | Z47: =IF(G47="Cmd Shot",VLOOKUP(G47,Troops!$X$4:$Y$5,2,FALSE)) -> FALSE | AB47: =IF(G47="Stakes",VLOOKUP(G47,Troops!$X$4:$Y$6,2,FALSE)) -> FALSE
E48: --------------- | G48: --------------- | H48: --------------- | I48: =IFERROR(R48+T48+V48+X48+Z48+AB48,"-") -> 0 | K48: =IFERROR(SUM(A48*I48),"N/A") -> 0 | M48: =VLOOKUP(E48,Troops!$A$3:$G$158,5,FALSE)*A48 -> 0 | O48: =VLOOKUP(E48,Troops!$A$3:$F$158,6,FALSE) -> 0 | P48: =O36*A48 -> 0 | R48: {=IF(AND(H48="Elite",G48="Cmd Shot"),N/A)} -> FALSE | T48: {=IF(AND(H48="mediocre",G48="Regimental Artillery"),N/A)} -> FALSE | V48: =IFERROR(IF(H48="Elite",VLOOKUP(E48,Troops!$A$3:$D$158,4,FALSE),IF(H48="Mediocre",VLOOKUP(E48,Troops!$A$3:$D$158,2,FALSE),VLOOKUP(E48,Troops!$A$3:$D$158,3,FALSE)))+R48+T48,"-") -> 0 | X48: =IF(G48="Regimental Artillery",VLOOKUP(G48,Troops!$X$4:$Y$5,2,FALSE)) -> FALSE | Z48: =IF(G48="Cmd Shot",VLOOKUP(G48,Troops!$X$4:$Y$5,2,FALSE)) -> FALSE | AB48: =IF(G48="Stakes",VLOOKUP(G48,Troops!$X$4:$Y$6,2,FALSE)) -> FALSE
A49: 0 | K49: =SUM(K40:K48)+K38 -> 0
A51: Corps IV | E51: Commander Name | H51: Value | I51: Type | K51: Budget | O51: Break Points | P51: Unit Qty | R51: Cmd Shot | T51: Regimental Artillery | V51: Budget | X51: Cmd Budget | Z51: Reg Budget | AB51: Stakes
H52: --------------- | I52: --------------- | K52: =VLOOKUP(H52,Troops!$AA$3:$AB$7,2,FALSE)+VLOOKUP(I52,Troops!$AD$3:$AE$8,2,FALSE) -> 0
A53: Quantity | B53: Troop description | E53: Troop Type | G53: Options | H53: Quality | I53: Budget | K53: Total
E54: --------------- | G54: --------------- | H54: --------------- | I54: =IFERROR(R54+T54+V54+X54+Z54+AB54,"-") -> 0 | K54: =IFERROR(SUM(A54*I54),"N/A") -> 0 | M54: =VLOOKUP(E54,Troops!$A$3:$G$158,5,FALSE)*A54 -> 0 | O54: =VLOOKUP(E54,Troops!$A$3:$F$158,6,FALSE) -> 0 | P54: =O44*A54 -> 0 | R54: {=IF(AND(H54="Elite",G54="Cmd Shot"),N/A)} -> FALSE | T54: {=IF(AND(H54="mediocre",G54="Regimental Artillery"),N/A)} -> FALSE | V54: =IFERROR(IF(H54="Elite",VLOOKUP(E54,Troops!$A$3:$D$158,4,FALSE),IF(H54="Mediocre",VLOOKUP(E54,Troops!$A$3:$D$158,2,FALSE),VLOOKUP(E54,Troops!$A$3:$D$158,3,FALSE)))+R54+T54,"-") -> 0 | X54: =IF(G54="Regimental Artillery",VLOOKUP(G54,Troops!$X$4:$Y$5,2,FALSE)) -> FALSE | Z54: =IF(G54="Cmd Shot",VLOOKUP(G54,Troops!$X$4:$Y$5,2,FALSE)) -> FALSE | AB54: =IF(G54="Stakes",VLOOKUP(G54,Troops!$X$4:$Y$6,2,FALSE)) -> FALSE
E55: --------------- | G55: --------------- | H55: --------------- | I55: =IFERROR(R55+T55+V55+X55+Z55+AB55,"-") -> 0 | K55: =IFERROR(SUM(A55*I55),"N/A") -> 0 | M55: =VLOOKUP(E55,Troops!$A$3:$G$158,5,FALSE)*A55 -> 0 | O55: =VLOOKUP(E55,Troops!$A$3:$F$158,6,FALSE) -> 0 | P55: =O45*A55 -> 0 | R55: {=IF(AND(H55="Elite",G55="Cmd Shot"),N/A)} -> FALSE | T55: {=IF(AND(H55="mediocre",G55="Regimental Artillery"),N/A)} -> FALSE | V55: =IFERROR(IF(H55="Elite",VLOOKUP(E55,Troops!$A$3:$D$158,4,FALSE),IF(H55="Mediocre",VLOOKUP(E55,Troops!$A$3:$D$158,2,FALSE),VLOOKUP(E55,Troops!$A$3:$D$158,3,FALSE)))+R55+T55,"-") -> 0 | X55: =IF(G55="Regimental Artillery",VLOOKUP(G55,Troops!$X$4:$Y$5,2,FALSE)) -> FALSE | Z55: =IF(G55="Cmd Shot",VLOOKUP(G55,Troops!$X$4:$Y$5,2,FALSE)) -> FALSE | AB55: =IF(G55="Stakes",VLOOKUP(G55,Troops!$X$4:$Y$6,2,FALSE)) -> FALSE
E56: --------------- | G56: --------------- | H56: --------------- | I56: =IFERROR(R56+T56+V56+X56+Z56+AB56,"-") -> 0 | K56: =IFERROR(SUM(A56*I56),"N/A") -> 0 | M56: =VLOOKUP(E56,Troops!$A$3:$G$158,5,FALSE)*A56 -> 0 | O56: =VLOOKUP(E56,Troops!$A$3:$F$158,6,FALSE) -> 0 | P56: =O46*A56 -> 0 | R56: {=IF(AND(H56="Elite",G56="Cmd Shot"),N/A)} -> FALSE | T56: {=IF(AND(H56="mediocre",G56="Regimental Artillery"),N/A)} -> FALSE | V56: =IFERROR(IF(H56="Elite",VLOOKUP(E56,Troops!$A$3:$D$158,4,FALSE),IF(H56="Mediocre",VLOOKUP(E56,Troops!$A$3:$D$158,2,FALSE),VLOOKUP(E56,Troops!$A$3:$D$158,3,FALSE)))+R56+T56,"-") -> 0 | X56: =IF(G56="Regimental Artillery",VLOOKUP(G56,Troops!$X$4:$Y$5,2,FALSE)) -> FALSE | Z56: =IF(G56="Cmd Shot",VLOOKUP(G56,Troops!$X$4:$Y$5,2,FALSE)) -> FALSE | AB56: =IF(G56="Stakes",VLOOKUP(G56,Troops!$X$4:$Y$6,2,FALSE)) -> FALSE
E57: --------------- | G57: --------------- | H57: --------------- | I57: =IFERROR(R57+T57+V57+X57+Z57+AB57,"-") -> 0 | K57: =IFERROR(SUM(A57*I57),"N/A") -> 0 | M57: =VLOOKUP(E57,Troops!$A$3:$G$158,5,FALSE)*A57 -> 0 | O57: =VLOOKUP(E57,Troops!$A$3:$F$158,6,FALSE) -> 0 | P57: =O45*A57 -> 0 | R57: {=IF(AND(H57="Elite",G57="Cmd Shot"),N/A)} -> FALSE | T57: {=IF(AND(H57="mediocre",G57="Regimental Artillery"),N/A)} -> FALSE | V57: =IFERROR(IF(H57="Elite",VLOOKUP(E57,Troops!$A$3:$D$158,4,FALSE),IF(H57="Mediocre",VLOOKUP(E57,Troops!$A$3:$D$158,2,FALSE),VLOOKUP(E57,Troops!$A$3:$D$158,3,FALSE)))+R57+T57,"-") -> 0 | X57: =IF(G57="Regimental Artillery",VLOOKUP(G57,Troops!$X$4:$Y$5,2,FALSE)) -> FALSE | Z57: =IF(G57="Cmd Shot",VLOOKUP(G57,Troops!$X$4:$Y$5,2,FALSE)) -> FALSE | AB57: =IF(G57="Stakes",VLOOKUP(G57,Troops!$X$4:$Y$6,2,FALSE)) -> FALSE
E58: --------------- | G58: --------------- | H58: --------------- | I58: =IFERROR(R58+T58+V58+X58+Z58+AB58,"-") -> 0 | K58: =IFERROR(SUM(A58*I58),"N/A") -> 0 | M58: =VLOOKUP(E58,Troops!$A$3:$G$158,5,FALSE)*A58 -> 0 | O58: =VLOOKUP(E58,Troops!$A$3:$F$158,6,FALSE) -> 0 | P58: =O46*A58 -> 0 | R58: {=IF(AND(H58="Elite",G58="Cmd Shot"),N/A)} -> FALSE | T58: {=IF(AND(H58="mediocre",G58="Regimental Artillery"),N/A)} -> FALSE | V58: =IFERROR(IF(H58="Elite",VLOOKUP(E58,Troops!$A$3:$D$158,4,FALSE),IF(H58="Mediocre",VLOOKUP(E58,Troops!$A$3:$D$158,2,FALSE),VLOOKUP(E58,Troops!$A$3:$D$158,3,FALSE)))+R58+T58,"-") -> 0 | X58: =IF(G58="Regimental Artillery",VLOOKUP(G58,Troops!$X$4:$Y$5,2,FALSE)) -> FALSE | Z58: =IF(G58="Cmd Shot",VLOOKUP(G58,Troops!$X$4:$Y$5,2,FALSE)) -> FALSE | AB58: =IF(G58="Stakes",VLOOKUP(G58,Troops!$X$4:$Y$6,2,FALSE)) -> FALSE
E59: --------------- | G59: --------------- | H59: --------------- | I59: =IFERROR(R59+T59+V59+X59+Z59+AB59,"-") -> 0 | K59: =IFERROR(SUM(A59*I59),"N/A") -> 0 | M59: =VLOOKUP(E59,Troops!$A$3:$G$158,5,FALSE)*A59 -> 0 | O59: =VLOOKUP(E59,Troops!$A$3:$F$158,6,FALSE) -> 0 | P59: =O47*A59 -> 0 | R59: {=IF(AND(H59="Elite",G59="Cmd Shot"),N/A)} -> FALSE | T59: {=IF(AND(H59="mediocre",G59="Regimental Artillery"),N/A)} -> FALSE | V59: =IFERROR(IF(H59="Elite",VLOOKUP(E59,Troops!$A$3:$D$158,4,FALSE),IF(H59="Mediocre",VLOOKUP(E59,Troops!$A$3:$D$158,2,FALSE),VLOOKUP(E59,Troops!$A$3:$D$158,3,FALSE)))+R59+T59,"-") -> 0 | X59: =IF(G59="Regimental Artillery",VLOOKUP(G59,Troops!$X$4:$Y$5,2,FALSE)) -> FALSE | Z59: =IF(G59="Cmd Shot",VLOOKUP(G59,Troops!$X$4:$Y$5,2,FALSE)) -> FALSE | AB59: =IF(G59="Stakes",VLOOKUP(G59,Troops!$X$4:$Y$6,2,FALSE)) -> FALSE
E60: --------------- | G60: --------------- | H60: --------------- | I60: =IFERROR(R60+T60+V60+X60+Z60+AB60,"-") -> 0 | K60: =IFERROR(SUM(A60*I60),"N/A") -> 0 | M60: =VLOOKUP(E60,Troops!$A$3:$G$158,5,FALSE)*A60 -> 0 | O60: =VLOOKUP(E60,Troops!$A$3:$F$158,6,FALSE) -> 0 | P60: =O48*A60 -> 0 | R60: {=IF(AND(H60="Elite",G60="Cmd Shot"),N/A)} -> FALSE | T60: {=IF(AND(H60="mediocre",G60="Regimental Artillery"),N/A)} -> FALSE | V60: =IFERROR(IF(H60="Elite",VLOOKUP(E60,Troops!$A$3:$D$158,4,FALSE),IF(H60="Mediocre",VLOOKUP(E60,Troops!$A$3:$D$158,2,FALSE),VLOOKUP(E60,Troops!$A$3:$D$158,3,FALSE)))+R60+T60,"-") -> 0 | X60: =IF(G60="Regimental Artillery",VLOOKUP(G60,Troops!$X$4:$Y$5,2,FALSE)) -> FALSE | Z60: =IF(G60="Cmd Shot",VLOOKUP(G60,Troops!$X$4:$Y$5,2,FALSE)) -> FALSE | AB60: =IF(G60="Stakes",VLOOKUP(G60,Troops!$X$4:$Y$6,2,FALSE)) -> FALSE
E61: --------------- | G61: --------------- | H61: --------------- | I61: =IFERROR(R61+T61+V61+X61+Z61+AB61,"-") -> 0 | K61: =IFERROR(SUM(A61*I61),"N/A") -> 0 | M61: =VLOOKUP(E61,Troops!$A$3:$G$158,5,FALSE)*A61 -> 0 | O61: =VLOOKUP(E61,Troops!$A$3:$F$158,6,FALSE) -> 0 | P61: =O49*A61 -> 0 | R61: {=IF(AND(H61="Elite",G61="Cmd Shot"),N/A)} -> FALSE | T61: {=IF(AND(H61="mediocre",G61="Regimental Artillery"),N/A)} -> FALSE | V61: =IFERROR(IF(H61="Elite",VLOOKUP(E61,Troops!$A$3:$D$158,4,FALSE),IF(H61="Mediocre",VLOOKUP(E61,Troops!$A$3:$D$158,2,FALSE),VLOOKUP(E61,Troops!$A$3:$D$158,3,FALSE)))+R61+T61,"-") -> 0 | X61: =IF(G61="Regimental Artillery",VLOOKUP(G61,Troops!$X$4:$Y$5,2,FALSE)) -> FALSE | Z61: =IF(G61="Cmd Shot",VLOOKUP(G61,Troops!$X$4:$Y$5,2,FALSE)) -> FALSE | AB61: =IF(G61="Stakes",VLOOKUP(G61,Troops!$X$4:$Y$6,2,FALSE)) -> FALSE
E62: --------------- | G62: --------------- | H62: --------------- | I62: =IFERROR(R62+T62+V62+X62+Z62+AB62,"-") -> 0 | K62: =IFERROR(SUM(A62*I62),"N/A") -> 0 | M62: =VLOOKUP(E62,Troops!$A$3:$G$158,5,FALSE)*A62 -> 0 | O62: =VLOOKUP(E62,Troops!$A$3:$F$158,6,FALSE) -> 0 | P62: =O50*A62 -> 0 | R62: {=IF(AND(H62="Elite",G62="Cmd Shot"),N/A)} -> FALSE | T62: {=IF(AND(H62="mediocre",G62="Regimental Artillery"),N/A)} -> FALSE | V62: =IFERROR(IF(H62="Elite",VLOOKUP(E62,Troops!$A$3:$D$158,4,FALSE),IF(H62="Mediocre",VLOOKUP(E62,Troops!$A$3:$D$158,2,FALSE),VLOOKUP(E62,Troops!$A$3:$D$158,3,FALSE)))+R62+T62,"-") -> 0 | X62: =IF(G62="Regimental Artillery",VLOOKUP(G62,Troops!$X$4:$Y$5,2,FALSE)) -> FALSE | Z62: =IF(G62="Cmd Shot",VLOOKUP(G62,Troops!$X$4:$Y$5,2,FALSE)) -> FALSE | AB62: =IF(G62="Stakes",VLOOKUP(G62,Troops!$X$4:$Y$6,2,FALSE)) -> FALSE
A63: 0 | K63: =SUM(K54:K62)+K52 -> 0
A66: =SUM(A21+A35+A49+A63+M5) -> 0 | B66: Units in the army | H66: Total budget : | K66: =SUM(F7+K6+K7+K21+K35+K49+K63) -> 0

Sheet Armies v4
A1: 0 | B1: ----------------------
A2: 1 | B2: Kingdom of Naples
A3: 2 | B3: Imperial Spanish
A4: 3 | B4: French Valois
A5: 4 | B5: Italian Wars French
A6: 5 | B6: Italian City States
A7: 6 | B7: Italian Wars Venetian
A8: 7 | B8: Maximillian Imperial German
A9: 8 | B9: German City States
A10: 9 | B10: Swiss Cantons
A11: 10 | B11: Tudor English
A12: 11 | B12: Elizabethan English
... A92: 91 | B92: Buccaneer

Sheet Troops
A1: Troop Type | B1: Mediocre | C1: Ordinary | D1: Elite | E1: Scouting | F1: BreakPoints | H1: General Level | K1: General Type | N1: Camps | Q1: Terrain Type | S1: Defences | V1: Quality | X1: Options | AA1: General Level - Large | AD1: General Type - Large | AG1: Camps
Q2: ---------------
A3: --------------- | B3: 0 | C3: 0 | D3: 0 | E3: 0 | F3: 0 | H3: --------------- | I3: 0 | K3: --------------- | L3: 0 | N3: --------------- | O3: --------------- | Q3: Plain | S3: Fortifications | T3: 1 | V3: --------------- | X3: --------------- | AA3: --------------- | AB3: 0 | AD3: --------------- | AE3: 0 | AG3: --------------- | AH3: ---------------
A4: Light infantry javelin | B4: - | C4: 4 | D4: 5 | E4: =1/3 -> 0.33333333 | F4: 1 | H4: Ordinary | I4: 0 | K4: Allied | L4: -3 | N4: Standard | O4: 0 | Q4: Forest | S4: Obstacles | T4: 0.5 | V4: Mediocre | X4: Cmd Shot | Y4: 3 | AA4: Ordinary | AB4: 0 | AD4: Allied | AE4: -5 | AG4: Standard | AH4: 0
A5: Light infantry arquebus | B5: - | C5: 4 | D5: 5 | E5: =1/3 -> 0.33333333 | F5: 1 | H5: Competent | I5: 3 | K5: Unreliable | L5: -3 | N5: Fortified | O5: 6 | Q5: Mountain | V5: Elite | X5: Regimental Artillery | Y5: 4 | AA5: Competent | AB5: 5 | AD5: Unreliable | AE5: -5 | AG5: Fortified | AH5: 9
A6: Light Infantry musket | B6: - | C6: 4 | D6: 5 | E6: =1/3 -> 0.33333333 | F6: 1 | H6: Brilliant | I6: 6 | K6: Included | L6: -3 | Q6: Steppe | X6: Stakes | Y6: 2 | AA6: Brilliant | AB6: 10 | AD6: Included | AE6: -5
A7: Light infantry bow | B7: - | C7: 4 | D7: 5 | E7: =1/3 -> 0.33333333 | F7: 1 | H7: Strategist | I7: 10 | K7: Inc. & Allied | L7: -6 | Q7: Desert | X7: Pavise | Y7: 1 | AA7: Strategist | AB7: 15 | AD7: Inc. & Allied | AE7: -10
A8: Light infantry crossbow | B8: - | C8: 4 | D8: 5 | E8: =1/3 -> 0.33333333 | F8: 1 | K8: Inc. & Unreliable | L8: -6 | AD8: Inc. & Unreliable | AE8: -10
A9: Levy | B9: 2 | C9: 3 | D9: - | E9: 0 | F9: 1
A10: Levy headstong | B10: 2 | C10: 3 | D10: - | E10: 0 | F10: 1
A11: Arquebusier | B11: =C11-3 -> 7 | C11: 10 | D11: =C11+3 -> 13 | E11: 0 | F11: 2
A12: Arquebusier armour | B12: =C12-3 -> 10 | C12: 13 | D12: =C12+3 -> 16 | E12: 0 | F12: 2
A13: Musketeer | B13: =C13-3 -> 8 | C13: 11 | D13: =C13+3 -> 14 | E13: 0 | F13: 2
A14: Flintlock | B14: =C14-3 -> 10 | C14: 13 | D14: =C14+3 -> 16 | E14: 0 | F14: 2
A15: Bowmen | B15: =C15-3 -> 10 | C15: 13 | D15: =C15+3 -> 16 | E15: 0 | F15: 2
A16: Crossbowmen | B16: =C16-3 -> 10 | C16: 13 | D16: =C16+3 -> 16 | E16: 0 | F16: 2
A17: Longbowmen | B17: =C17-3 -> 11 | C17: 14 | D17: =C17+3 -> 17 | E17: 0 | F17: 2
A18: Longbowmen armour | B18: =C18-3 -> 14 | C18: 17 | D18: =C18+3 -> 20 | E18: 0 | F18: 2
A19: Medium spearmen | B19: =C19-3 -> 9 | C19: 12 | D19: =C19+3 -> 15 | E19: 0 | F19: 2
A20: Medium spearmen armour | B20: =C20-3 -> 11 | C20: 14 | D20: =C20+3 -> 17 | E20: 0 | F20: 2
A21: Medium spearmen heavy armour | B21: =C21-3 -> 13 | C21: 16 | D21: =C21+3 -> 19 | E21: 0 | F21: 2
A22: Medium spearmen arquebus | B22: =C22-3 -> 11 | C22: 14 | D22: =C22+3 -> 17 | E22: 0 | F22: 2
... A39: Medium swordsmen impact bow | B39: =C39-3 -> 14 | C39: 17 | D39: =C39+3 -> 20 | E39: 0 | F39: 2
A40: Medium swordsmen 1/2 arquebus | B40: - | C40: 11 | D40: =C40+3 -> 14 | E40: 0 | F40: 2
A41: Medium swordsmen 1/2 musket | B41: - | C41: 12 | D41: =C41+3 -> 15 | E41: 0 | F41: 2
A42: Medium swordsmen 1/2 bow | B42: - | C42: 14 | D42: =C42+3 -> 17 | E42: 0 | F42: 2
A43: Medium swordsmen 1/2 crossbow | B43: - | C43: 14 | D43: =C43+3 -> 17 | E43: 0 | F43: 2
A44: Medium swordsmen headstrong | B44: =C44-3 -> 7 | C44: 10 | D44: =C44+3 -> 13 | E44: 0 | F44: 2
A45: Medium swordsmen headstrong arquebus | B45: =C45-3 -> 9 | C45: 12 | D45: =C45+3 -> 15 | E45: 0 | F45: 2
A46: Medium swordsmen headstrong musket | B46: =C46-3 -> 10 | C46: 13 | D46: =C46+3 -> 16 | E46: 0 | F46: 2
A47: Medium swordsmen headstrong bow | B47: =C47-3 -> 12 | C47: 15 | D47: =C47+3 -> 18 | E47: 0 | F47: 2
A48: Medium swordsmen headstrong crossbow | B48: =C48-3 -> 12 | C48: 15 | D48: =C48+3 -> 18 | E48: 0 | F48: 2
A49: Medium swordsmen headstrong 1/2 arquebus | B49: - | C49: 11 | D49: =C49+3 -> 14 | E49: 0 | F49: 2
A50: Medium swordsmen headstrong 1/2 musket | B50: - | C50: 12 | D50: =C50+3 -> 15 | E50: 0 | F50: 2
A51: Medium swordsmen headstrong 1/2 bow | B51: - | C51: 14 | D51: =C51+3 -> 17 | E51: 0 | F51: 2
A52: Medium swordsmen headstrong 1/2 crossbow | B52: - | C52: 14 | D52: =C52+3 -> 17 | E52: 0 | F52: 2
A53: Medium swordsmen impact headstrong 1/2 arquebus | B53: - | C53: 13 | D53: =C53+3 -> 16 | E53: 0 | F53: 2
A54: Medium swordsmen impact headstrong 1/2 musket | B54: - | C54: 14 | D54: =C54+3 -> 17 | E54: 0 | F54: 2
A55: Medium swordsmen impact headstrong 1/2 bow | B55: - | C55: 16 | D55: =C55+3 -> 19 | E55: 0 | F55: 2
A56: Medium swordsmen impact headstrong 1/2 crossbow | B56: - | C56: 16 | D56: =C56+3 -> 19 | E56: 0 | F56: 2
A57: Heavy swordsmen | B57: =C57-3 -> 10 | C57: 13 | D57: =C57+3 -> 16 | E57: 0 | F57: 2
A58: Heavy swordsmen polearm | B58: =C58-3 -> 12 | C58: 15 | D58: =C58+3 -> 18 | E58: 0 | F58: 2
A59: Heavy swordsmen 2HW | B59: =C59-3 -> 12 | C59: 15 | D59: =C59+3 -> 18 | E59: 0 | F59: 2
A60: Heavy swordsmen 2HW armour | B60: =C60-3 -> 15 | C60: 18 | D60: =C60+3 -> 21 | E60: 0 | F60: 2
A61: Heavy swordsmen headstrong | B61: =C61-3 -> 10 | C61: 13 | D61: =C61+3 -> 16 | E61: 0 | F61: 2
A62: Heavy spearmen | B62: =C62-3 -> 10 | C62: 13 | D62: =C62+3 -> 16 | E62: 0 | F62: 2
A63: Foot Knight | B63: =C63-3 -> 17 | C63: 20 | D63: =C63+3 -> 23 | E63: 0 | F63: 2
A64: Keil | B64: =C64-3 -> 14 | C64: 17 | D64: =C64+3 -> 20 | E64: 0 | F64: 2
A65: Keil headstrong | B65: =C65-3 -> 14 | C65: 17 | D65: =C65+3 -> 20 | E65: 0 | F65: 2
A66: Keil armour | B66: =C66-3 -> 17 | C66: 20 | D66: =C66+3 -> 23 | E66: 0 | F66: 2
A67: Keil keil swordsmen | B67: =C67-3 -> 16 | C67: 19 | D67: =C67+3 -> 22 | E67: 0 | F67: 2
A68: keil keil swordsmen armour | B68: =C68-3 -> 19 | C68: 22 | D68: =C68+3 -> 25 | E68: 0 | F68: 2
... A80: Pike & Shot salvo | B80: =C80-3 -> 16 | C80: 19 | D80: =C80+3 -> 22 | E80: 0 | F80: 2
A81: Pike & Shot 1/2 arquebus | B81: - | C81: 14 | D81: =C81+3 -> 17 | E81: 0 | F81: 2
A82: Pike & Shot 1/2 musket | B82: - | C82: 15 | D82: =C82+3 -> 18 | E82: 0 | F82: 2
A83: Later Pike & Shot | B83: =C83-3 -> 15 | C83: 18 | D83: =C83+3 -> 21 | E83: 0 | F83: 2
A84: Later Pike & Shot impact | B84: =C84-3 -> 17 | C84: 20 | D84: =C84+3 -> 23 | E84: 0 | F84: 2
A85: Bayonet | B85: =C85-3 -> 14 | C85: 17 | D85: =C85+3 -> 20 | E85: 0 | F85: 2
A86: Warwagon | B86: 4 | C86: 8 | D86: - | E86: 0 | F86: 2
A87: Warwagon arquebus | B87: 8 | C87: 12 | D87: - | E87: 0 | F87: 1
A88: Warwagon bow | B88: 8 | C88: 12 | D88: - | E88: 0 | F88: 1
A89: Warwagon crossbow | B89: 8 | C89: 12 | D89: - | E89: 0 | F89: 1
A90: Warwagon light artillery | B90: 10 | C90: 14 | D90: - | E90: 0 | F90: 1
A91: Light artillery | B91: =C91-2 -> 4 | C91: 6 | D91: - | E91: 0 | F91: 1
A92: Medium artillery | B92: =C92-2 -> 8 | C92: 10 | D92: =C92+2 -> 12 | E92: 0 | F92: 1
A93: Heavy artillery | B93: =C93-2 -> 8 | C93: 10 | D93: =C93+2 -> 12 | E93: 0 | F93: 1
A94: Light cavalry bow | B94: =C94-2 -> 4 | C94: 6 | D94: 7 | E94: 1 | F94: 1
A95: Light cavalry javelin | B95: =C95-2 -> 4 | C95: 6 | D95: 7 | E95: 1 | F95: 1
A96: Light cavalry crossbow | B96: =C96-2 -> 4 | C96: 6 | D96: 7 | E96: 1 | F96: 1
A97: Light cavalry impact | B97: =C97-2 -> 4 | C97: 6 | D97: 7 | E97: 1 | F97: 1
A98: Light cavalry carbine | B98: =C98-2 -> 4 | C98: 6 | D98: 7 | E98: 1 | F98: 1
A99: Dragoon arquebus | B99: 4 | C99: 5 | D99: 6 | E99: 1 | F99: 1
A100: Dragoon musket | B100: 5 | C100: 6 | D100: 7 | E100: 1 | F100: 1
A101: Medium cavalry | B101: =C101-2 -> 5 | C101: 7 | D101: =C101+2 -> 9 | E101: 0 | F101: 1
A102: Medium cavalry javelin | B102: =C102-2 -> 6 | C102: 8 | D102: =C102+2 -> 10 | E102: 0 | F102: 1
A103: Medium cavalry bow | B103: =C103-2 -> 7 | C103: 9 | D103: =C103+2 -> 11 | E103: 0 | F103: 1
A104: Medium cavalry bow pistol | B104: =C104-2 -> 8 | C104: 10 | D104: =C104+2 -> 12 | E104: 0 | F104: 1
A105: Medium cavalry carbine | B105: =C105-2 -> 7 | C105: 9 | D105: =C105+2 -> 11 | E105: 0 | F105: 1
A106: Medium cavalry carbine pistol | B106: =C106-2 -> 8 | C106: 10 | D106: =C106+2 -> 12 | E106: 0 | F106: 1
A107: Medium cavalry crossbow | B107: =C107-2 -> 7 | C107: 9 | D107: =C107+2 -> 11 | E107: 0 | F107: 1
A108: Medium cavalry crossbow pistol | B108: =C108-2 -> 8 | C108: 10 | D108: =C108+2 -> 12 | E108: 0 | F108: 1
A109: Medium cavalry pistol | B109: =C109-2 -> 6 | C109: 8 | D109: =C109+2 -> 10 | E109: 0 | F109: 1
A110: Medium cavalry impact | B110: =C110-2 -> 6 | C110: 8 | D110: =C110+2 -> 10 | E110: 0 | F110: 1
A111: Medium cavalry impact bow | B111: =C111-2 -> 8 | C111: 10 | D111: =C111+2 -> 12 | E111: 0 | F111: 1
A112: Medium cavalry impact 1/2 carbine | B112: =C112-2 -> 7 | C112: 9 | D112: =C112+2 -> 11 | E112: 0 | F112: 1
... A153: Medium camelry bow | B153: =C153-2 -> 8 | C153: 10 | D153: =C153+2 -> 12 | E153: 0 | F153: 1
A154: Gendarme | B154: - | C154: 11 | D154: =C154+2 -> 13 | E154: 0 | F154: 1
A155: Gendarme impact | B155: - | C155: 13 | D155: =C155+2 -> 15 | E155: 0 | F155: 1
A156: Elephant | B156: =C156-3 -> 10 | C156: 13 | D156: =C156+3 -> 16 | E156: 0 | F156: 1
A157: Elephant armoured | B157: =C157-3 -> 13 | C157: 16 | D157: =C157+3 -> 19 | E157: 0 | F157: 1
A158: Elephant artillery | B158: =C158-3 -> 13 | C158: 16 | D158: =C158+3 -> 19 | E158: 0 | F158: 1

Sheet Version History
A1: Version | B1: Date | C1: Comments
A2: 1.01 | B2: 44554 | C2: Initial Version
A3: 1.02 | B3: 44197 | C3: Standard format, column N hidden, has break points for BU
A4: 1.03 | B4: 44575 | C4: Added missing medium and heavy cav carbine impact
A5: 1.04 | B5: 44579 | C5: Fixed up break point calculation, removed protection from main tab to allow copy & paste
A6: 1.6 | B6: 44655 | C6: Added missing heavy cav 1/2 bow impact, restorted troop layout and fixed up points bug on bowmen, added longbowmen, fixed up errors and fixed up light artillery, added Large Battle option
A7: 1.7 | B7: 44866 | C7: Added Light infantry javelin, medium swordsmen longbow
A8: 1.9 | B8: 44958 | C8: Minor tweaks and points revision, replaced Heavy knights with Knight, replaced reduced shooter with 1/2 shooter
A9: 2 | B9: 45078 | C9: Updated points in line with June 2023 update, added new army lists, regimental guns and commanded shot now an option.
A10: 2.1 | B10: 45108 | C10: Added Keil headstrong, fixed up Stakes costs and fortified camp points issue
A11: 2.2 | B11: 45170 | C11: Added extra lines for armies
A12: 2.3 | B12: 45170 | C12: Fixed up break point calculation after extra lines added
A13: 2.4 | B13: 45352 | C13: Added in Pistol as option for Qapu Khulu and Cavalry carbine impact, removed options for 1/2 shooter mediocre as illegal
A14: 2.5 | B14: 45383 | C14: Added pavise, arquebus armour, longbow armour, medium spearmen armour and heavy armour for Samurai lists
